BEGIN:VCALENDAR
VERSION:2.0
PRODID:-//Thornhill Cruisers Cars Club Canada - ECPv6.7.1//NONSGML v1.0//EN
CALSCALE:GREGORIAN
METHOD:PUBLISH
X-WR-CALNAME:Thornhill Cruisers Cars Club Canada
X-ORIGINAL-URL:https://thornhillcruiserscarclub.com
X-WR-CALDESC:Events for Thornhill Cruisers Cars Club Canada
REFRESH-INTERVAL;VALUE=DURATION:PT1H
X-Robots-Tag:noindex
X-PUBLISHED-TTL:PT1H
BEGIN:VTIMEZONE
TZID:America/Toronto
BEGIN:DAYLIGHT
TZOFFSETFROM:-0500
TZOFFSETTO:-0400
TZNAME:EDT
DTSTART:20230312T070000
END:DAYLIGHT
BEGIN:STANDARD
TZOFFSETFROM:-0400
TZOFFSETTO:-0500
TZNAME:EST
DTSTART:20231105T060000
END:STANDARD
END:VTIMEZONE
BEGIN:VEVENT
DTSTART;TZID=America/Toronto:20230828T170000
DTEND;TZID=America/Toronto:20230828T200000
DTSTAMP:20260425T080251
CREATED:20230526T225345Z
LAST-MODIFIED:20230526T225345Z
UID:10579-1693242000-1693252800@thornhillcruiserscarclub.com
SUMMARY:MONDAY NIGHT CAR CRUISE IN MARKHAM ONTARIO
DESCRIPTION:Welcome to our regular cruise night sponsored by the Thornhill Cruisers Car Club.  The night will feature some really nice classic cars and some classic music from the era.  As usual\, there are a few good spots here to grab a bit to eat.  There will be a charity draw with the proceeds going to Jumpstart charity.
URL:https://thornhillcruiserscarclub.com/event/monday-night-car-cruise-in-markham-ontario-4/
LOCATION:2900 Major Mackenzie Road\, 2900 Major Mackenzie\, Markham\, Ontario\, Canada
END:VEVENT
BEGIN:VEVENT
DTSTART;TZID=America/Toronto:20230827T090000
DTEND;TZID=America/Toronto:20230827T170000
DTSTAMP:20260425T080251
CREATED:20230826T201945Z
LAST-MODIFIED:20230826T201945Z
UID:11749-1693126800-1693155600@thornhillcruiserscarclub.com
SUMMARY:GUELPH RIBFEST
DESCRIPTION:This yearly event has been held in Guelph for a long time.  It is easy to get to and you can drive on Hwy. #7 to Guelph or the 401 (less scenic).  Lots of choice of ribs and they have a great car show to boot.
URL:https://thornhillcruiserscarclub.com/event/guelph-ribfest-4/
LOCATION:Guelph Ribfest\, Canada
ORGANIZER;CN="Sonia Spekkens%2C Dan O'Donnell":MAILTO:entertainment@ribfestguelph.com
END:VEVENT
BEGIN:VEVENT
DTSTART;TZID=America/Toronto:20230826T110000
DTEND;TZID=America/Toronto:20230826T170000
DTSTAMP:20260425T080251
CREATED:20230721T221827Z
LAST-MODIFIED:20230721T225139Z
UID:11152-1693047600-1693069200@thornhillcruiserscarclub.com
SUMMARY:Copper Kettle Festival - Creemore Springs
DESCRIPTION:You’re Invited – Copper Kettle FestivalThere will be another Copper Kettle Festival in Creemore on Saturday\, August 26 starting at 11 am.  This event features a terrific car show plus a tour of the famous Creemore brewery.  There will be a farmers market and several sidewalk musicians.  This is a full day event and lots of fun. \nYou’re invited! \nHi Folks\, \nFor the first time in two years\, we held our Copper Kettle Festival in 2022\, and we couldn’t of asked for a better day to celebrate our 35th birthday! \nThis year\, our Copper Kettle Festival will be held on August 26th\, 2023 so save the date! You can expect a day filled with great beer\, food and music as well as activities the whole family will love. \nIf you have questions or would like to get in touch with us\, please email thefolks@creemoresprings.com \nSee you in August! \nTheSchedule \ndate: august 26th\, 2023 \nlocation: creemore\, on
URL:https://thornhillcruiserscarclub.com/event/copper-kettle-festival-creemore-2/
LOCATION:Creemore Valley\, 172 Mill Street\, Creemore\, Ontario\, Canada
ORGANIZER;CN="thefolks@creemoresprings.com":MAILTO:thefolks@creemoresprings.com
END:VEVENT
BEGIN:VEVENT
DTSTART;TZID=America/Toronto:20230825T120000
DTEND;TZID=America/Toronto:20230825T230000
DTSTAMP:20260425T080251
CREATED:20230721T222416Z
LAST-MODIFIED:20230721T224725Z
UID:11154-1692964800-1693004400@thornhillcruiserscarclub.com
SUMMARY:Guelph Ribfest
DESCRIPTION:This is a 3 day event starting on Friday\, August 25 from 12 noon to 11pm and continuing on Saturday\, August 26 from 11 am to 11 pm and finishing on Sunday\, August 27 at 9 am to 3:30 pm. \nLocation: 709 Woolwich Street\, Guelph\, ON N1H 7G6 \n 
URL:https://thornhillcruiserscarclub.com/event/guelph-ribfest-3/
LOCATION:Guelph Ribfest\, Canada
END:VEVENT
BEGIN:VEVENT
DTSTART;TZID=America/Toronto:20230824T100000
DTEND;TZID=America/Toronto:20230824T130000
DTSTAMP:20260425T080251
CREATED:20230526T223430Z
LAST-MODIFIED:20230816T184827Z
UID:10561-1692871200-1692882000@thornhillcruiserscarclub.com
SUMMARY:NEWMARKET HEALTH CENTRE
DESCRIPTION:We will be doing a car show at the Newmarket Health Centre on August 24th.  They are looking for about 20 cars and will provide lunch.
URL:https://thornhillcruiserscarclub.com/event/newmarket-health-centre-4/
LOCATION:Newmarket Health Centre\, 194 Eagle Street\, Newmarket\, Ontario\, L3Y 1J6\, Canada
ORGANIZER;CN="Betsy Anderson":MAILTO:betsy.anderson@york.ca
END:VEVENT
BEGIN:VEVENT
DTSTART;TZID=America/Toronto:20230821T170000
DTEND;TZID=America/Toronto:20230821T200000
DTSTAMP:20260425T080251
CREATED:20230526T225219Z
LAST-MODIFIED:20230526T225219Z
UID:10577-1692637200-1692648000@thornhillcruiserscarclub.com
SUMMARY:MONDAY NIGHT CAR CRUISE IN MARKHAM ONTARIO
DESCRIPTION:Welcome to our regular cruise night sponsored by the Thornhill Cruisers Car Club.  The night will feature some really nice classic cars and some classic music from the era.  As usual\, there are a few good spots here to grab a bit to eat.  There will be a charity draw with the proceeds going to Jumpstart charity.
URL:https://thornhillcruiserscarclub.com/event/monday-night-car-cruise-in-markham-ontario-3/
LOCATION:2900 Major Mackenzie Road\, 2900 Major Mackenzie\, Markham\, Ontario\, Canada
END:VEVENT
BEGIN:VEVENT
DTSTART;TZID=America/Toronto:20230820T110000
DTEND;TZID=America/Toronto:20230820T170000
DTSTAMP:20260425T080251
CREATED:20230721T221256Z
LAST-MODIFIED:20230721T224107Z
UID:11150-1692529200-1692550800@thornhillcruiserscarclub.com
SUMMARY:Highway 11 Cruisers CC -Summer Fest Car Show - Sharon Temple
DESCRIPTION:Highway 11 Cruisers CC -Summer Fest Car Show – Sharon Temple \nEvent by Highway 11 Cruisers C.C. \nSharon Temple Museum \nTickets · $10 \nwww.eventbrite.ca/e/highway-11-cruisers-present-the-3rd-annual-summer-fest-car-show-tickets-667917879357 \n  \nPublic  · Anyone on or off Facebook \nBACK BY POPULAR DEMAND !!! \nOur Summer Fest 2023 Car Show at the Sharon Temple is returning once again !!! \nWe’ll have live music\, vendors\, prizes and fun for the whole family ! \nGates open at 11am on Sunday August 20th … Bring your Classic Cars\, Hot Rods\, RestoMods\, Rat Rods\, Trucks\, Motorcycles or even your tractor … everyone welcome !! \nSpectators are welcome to attend the event\, please park on a nearby street as the on property lots are dedicated to those displaying their cool rides. There is limited parking onsite for those spectators with Mobility Permits. \nAs at all our exciting events\, we will be collecting donations for a charity at this event … donation drums will be located at the Club Trailer where our Swag is available for purchase. \n 
URL:https://thornhillcruiserscarclub.com/event/highway-11-cruisers-sharon-temple/
LOCATION:Sharon Temple grounds & the EG Civic Centre property\, Ontario\, Canada
ORGANIZER;CN="Hwy. 11 Cruisers Car Club":MAILTO:highway11cruisers@gmail.com
END:VEVENT
BEGIN:VEVENT
DTSTART;TZID=America/Toronto:20230817T100000
DTEND;TZID=America/Toronto:20230817T130000
DTSTAMP:20260425T080251
CREATED:20230526T223210Z
LAST-MODIFIED:20230722T211545Z
UID:10559-1692266400-1692277200@thornhillcruiserscarclub.com
SUMMARY:MAPLE HEALTH CENTRE
DESCRIPTION:We will be doing a car show at the Maple Health Centre in Vaughan at 10424 Keele Street just north of Major Mackenzie Dr.
URL:https://thornhillcruiserscarclub.com/event/maple-health-centre-7/
LOCATION:MAPLE HEALTH CENTRE\, 10424 Keele Street\, Maple\, Ontario\, Canada
ORGANIZER;CN="Betsy Anderson":MAILTO:betsy.anderson@york.ca
END:VEVENT
BEGIN:VEVENT
DTSTART;TZID=America/Toronto:20230815T110000
DTEND;TZID=America/Toronto:20230815T143000
DTSTAMP:20260425T080251
CREATED:20230722T211449Z
LAST-MODIFIED:20230722T211449Z
UID:11181-1692097200-1692109800@thornhillcruiserscarclub.com
SUMMARY:Chartwell Rouge Valley Retirement Residence
DESCRIPTION:We are invited to participate in a car show at Chartwell Rouge Valley Retirement Residence.  They will have a 30 car capacity so several members can join in.  This event will be sponsored by the Markham-Stouffville Cruisers Car Club.  It is located at 5958 16th Avenue on the north side just west of Markham Road
URL:https://thornhillcruiserscarclub.com/event/chartwell-rouge-valley-retirement-residence/
LOCATION:Chartwell Rough Valley\, 5958 16th Avenue\, Markham\, Ontario\, Canada
END:VEVENT
BEGIN:VEVENT
DTSTART;TZID=America/Toronto:20230814T170000
DTEND;TZID=America/Toronto:20230814T200000
DTSTAMP:20260425T080251
CREATED:20230526T225055Z
LAST-MODIFIED:20230526T225055Z
UID:10575-1692032400-1692043200@thornhillcruiserscarclub.com
SUMMARY:MONDAY NIGHT CAR CRUISE IN MARKHAM ONTARIO
DESCRIPTION:Welcome to our regular cruise night sponsored by the Thornhill Cruisers Car Club.  The night will feature some really nice classic cars and some classic music from the era.  As usual\, there are a few good spots here to grab a bit to eat.  There will be a charity draw with the proceeds going to Jumpstart charity.
URL:https://thornhillcruiserscarclub.com/event/monday-night-car-cruise-in-markham-ontario-2/
LOCATION:2900 Major Mackenzie Road\, 2900 Major Mackenzie\, Markham\, Ontario\, Canada
END:VEVENT
BEGIN:VEVENT
DTSTART;TZID=America/Toronto:20230813T100000
DTEND;TZID=America/Toronto:20230813T170000
DTSTAMP:20260425T080251
CREATED:20230722T210421Z
LAST-MODIFIED:20230722T210421Z
UID:11176-1691920800-1691946000@thornhillcruiserscarclub.com
SUMMARY:Whitchurch-Stouffville Museum Car Show
DESCRIPTION:We will be attending the Whitchurch-Stouffville Car Show again this year and it promises to be as good or better than we’ve seen in previous years.  This is a very worthwhile car show.
URL:https://thornhillcruiserscarclub.com/event/whitchurch-stouffville-museum-car-show/
LOCATION:Whitchurch-Stouffville Museum\, 14732 Woodbine Ave.\, Vandorf\, Ontario\, Canada
ORGANIZER;CN="Whitchurch-Stouffville Museum":MAILTO:wsmuseum@townofws.ca
END:VEVENT
BEGIN:VEVENT
DTSTART;TZID=America/Toronto:20230811T163000
DTEND;TZID=America/Toronto:20230811T230000
DTSTAMP:20260425T080251
CREATED:20230722T215447Z
LAST-MODIFIED:20230722T215447Z
UID:11200-1691771400-1691794800@thornhillcruiserscarclub.com
SUMMARY:Alliston Potato Festival
DESCRIPTION:This festival opens on Friday\, August 11 and continues on Saturday and Sunday\, August 12 and 13.
URL:https://thornhillcruiserscarclub.com/event/alliston-potato-festival-2/
LOCATION:Alliston\, Hwy. 89\, Alliston\, Ontario\, Canada
END:VEVENT
BEGIN:VEVENT
DTSTART;TZID=America/Toronto:20230810T130000
DTEND;TZID=America/Toronto:20230810T150000
DTSTAMP:20260425T080251
CREATED:20230722T210855Z
LAST-MODIFIED:20230722T210855Z
UID:11178-1691672400-1691679600@thornhillcruiserscarclub.com
SUMMARY:Unionvilla
DESCRIPTION:This event is being hosted by the Markham-Stouffville Cruisers Car Club.  They can handle 25 to 30 cars. Lunch will be provided.
URL:https://thornhillcruiserscarclub.com/event/unionvilla/
LOCATION:Unionvilla\, 4300 Hwy. #7\, Markham\, Ontario\, Canada
ORGANIZER;CN="Markham-Stouffville Cruisers Car Club":MAILTO:markhamstouffvillecruisersclub@gmail.com
END:VEVENT
BEGIN:VEVENT
DTSTART;TZID=America/Toronto:20230809T173000
DTEND;TZID=America/Toronto:20230809T203000
DTSTAMP:20260425T080251
CREATED:20230719T211949Z
LAST-MODIFIED:20230806T222511Z
UID:11078-1691602200-1691613000@thornhillcruiserscarclub.com
SUMMARY:Markham-Stouffville Cruisers Invite
DESCRIPTION:We have been asked by our neighbouring car club\, The Markham Stouffville Cruisers\, to invite members of The Thornhill Cruisers to attend a special Wednesday night car meet of their club on August 9th from 5:00 pm until dusk. Each Non-MSC member attending this meet will receive a gift and a draw ticket for their lucky draw. At this car club event\, the MS Cruisers will be receiving a Certificate of Appreciation from the City of Markham for their Service to The Community. In addition\, they will be conducting a cheque presentation to The Markham-Stouffville Hospital’s Mental Health Program. \nThis will be a great opportunity to support a fellow Car Club while enjoying a special evening with like-minded classic car collectors from our two clubs. I hope you will make a special effort to attend. The MS Cruisers meet weekly at their new location which is the Markham Village Community Centre (6041 Hwy 7) on the south side of Hwy 7 just east of Markham Rd. \n  \n  \n  \nmarkhamstouffvillecruisersclub@gmail.com \nMarkham Stouffville Cruisers \nhttps://markhamstouffvillecruisers.com \n 
URL:https://thornhillcruiserscarclub.com/event/markham-stouffville-cruisers-invite/
LOCATION:Markham Village Community Centre\, 6059 Highway 7\, Markham\, Ontario\, Canada
END:VEVENT
BEGIN:VEVENT
DTSTART;TZID=America/Toronto:20230807T170000
DTEND;TZID=America/Toronto:20230807T200000
DTSTAMP:20260425T080251
CREATED:20230526T224928Z
LAST-MODIFIED:20230526T224928Z
UID:10573-1691427600-1691438400@thornhillcruiserscarclub.com
SUMMARY:MONDAY NIGHT CAR CRUISE IN MARKHAM ONTARIO
DESCRIPTION:Welcome to our regular cruise night sponsored by the Thornhill Cruisers Car Club.  The night will feature some really nice classic cars and some classic music from the era.  As usual\, there are a few good spots here to grab a bit to eat.  There will be a charity draw with the proceeds going to Jumpstart charity.
URL:https://thornhillcruiserscarclub.com/event/monday-night-car-cruise-in-markham-ontario/
LOCATION:2900 Major Mackenzie Road\, 2900 Major Mackenzie\, Markham\, Ontario\, Canada
END:VEVENT
BEGIN:VEVENT
DTSTART;TZID=America/Toronto:20230805T110000
DTEND;TZID=America/Toronto:20230805T170000
DTSTAMP:20260425T080251
CREATED:20230722T210017Z
LAST-MODIFIED:20230726T153846Z
UID:11173-1691233200-1691254800@thornhillcruiserscarclub.com
SUMMARY:MS Road to a Cure Car Show
DESCRIPTION:Will be held indoors at the Bloomington Road ‘GO Station’ at Bloomington Road and Hwy. #404 (south-west quadrant). This event is sponsored by the Markham-Stouffville Cruisers Car Club.
URL:https://thornhillcruiserscarclub.com/event/ms-road-to-a-cure-car-show/
LOCATION:Bloomington Road GO Station\, Markham\, Ontario\, Canada
ORGANIZER;CN="Markham-Stouffville Cruisers Car Club":MAILTO:markhamstouffvillecruisersclub@gmail.com
END:VEVENT
BEGIN:VEVENT
DTSTART;TZID=America/Toronto:20230803T110000
DTEND;TZID=America/Toronto:20230803T140000
DTSTAMP:20260425T080251
CREATED:20230722T205508Z
LAST-MODIFIED:20230722T205508Z
UID:11168-1691060400-1691071200@thornhillcruiserscarclub.com
SUMMARY:Chartwell Gibson Long Term Care Residence
DESCRIPTION:We are invited (4 cars only) to visit Gibson House long term care residence.  Lunch will be included.
URL:https://thornhillcruiserscarclub.com/event/chartwell-gibson-long-term-care-residence/
LOCATION:Chartwell Gibson House Long Term Care Residence\, 1925 Steeles Ave. E.\, Toronto\, Ontario\, Canada
END:VEVENT
BEGIN:VEVENT
DTSTART;TZID=America/Toronto:20230731T170000
DTEND;TZID=America/Toronto:20230731T203000
DTSTAMP:20260425T080251
CREATED:20230526T224738Z
LAST-MODIFIED:20230526T224738Z
UID:10571-1690822800-1690835400@thornhillcruiserscarclub.com
SUMMARY:MONDAY NIGHT CAR CRUISE IN MARKHAM
DESCRIPTION:Welcome to our regular cruise night sponsored by the Thornhill Cruisers Car Club.  The night will feature some really nice classic cars and some classic music from the era.  As usual\, there are a few good spots here to grab a bit to eat.  There will be a charity draw with the proceeds going to Jumpstart charity.
URL:https://thornhillcruiserscarclub.com/event/monday-night-car-cruise-in-markham-2/
LOCATION:2900 Major Mackenzie Road\, 2900 Major Mackenzie\, Markham\, Ontario\, Canada
END:VEVENT
BEGIN:VEVENT
DTSTART;TZID=America/Toronto:20230724T170000
DTEND;TZID=America/Toronto:20230724T203000
DTSTAMP:20260425T080251
CREATED:20230526T224555Z
LAST-MODIFIED:20230526T224555Z
UID:10569-1690218000-1690230600@thornhillcruiserscarclub.com
SUMMARY:MONDAY NIGHT CAR CRUISE IN MARKHAM
DESCRIPTION:Welcome to the cruise night sponsored by the Thornhill Cruisers Car Club.  The night will feature some really nice classic cars and some classic music from the era.  As usual\, there are a few good spots here to grab a bit to eat.  There will be a charity draw with the proceeds going to Jumpstart charity.
URL:https://thornhillcruiserscarclub.com/event/monday-night-car-cruise-in-markham/
LOCATION:2900 Major Mackenzie Road\, 2900 Major Mackenzie\, Markham\, Ontario\, Canada
END:VEVENT
BEGIN:VEVENT
DTSTART;TZID=America/Toronto:20230718T100000
DTEND;TZID=America/Toronto:20230718T120000
DTSTAMP:20260425T080251
CREATED:20230526T222919Z
LAST-MODIFIED:20230526T222919Z
UID:10555-1689674400-1689681600@thornhillcruiserscarclub.com
SUMMARY:CRUISE TO CUMMER LODGE
DESCRIPTION:We are invited to do a car show at Cummer Lodge on July 18\, 2023. Pizza and refreshments will be served.
URL:https://thornhillcruiserscarclub.com/event/cruise-to-cummer-lodge/
LOCATION:CUMMER LODGE\, 205 Cummer Ave.\, Toronto\, Ontario\, M2M 2E8\, Canada
END:VEVENT
BEGIN:VEVENT
DTSTART;TZID=America/Toronto:20230717T170000
DTEND;TZID=America/Toronto:20230717T203000
DTSTAMP:20260425T080251
CREATED:20230526T224420Z
LAST-MODIFIED:20230526T224420Z
UID:10567-1689613200-1689625800@thornhillcruiserscarclub.com
SUMMARY:MONDAY NIGHT CAR CRUISE
DESCRIPTION:Welcome to the cruise night sponsored by the Thornhill Cruisers Car Club.  The night will feature some really nice classic cars and some classic music from the era.  As usual\, there are a few good spots here to grab a bit to eat.  There will be a charity draw with the proceeds going to Jumpstart charity.
URL:https://thornhillcruiserscarclub.com/event/monday-night-car-cruise-2/
LOCATION:2900 Major Mackenzie Road\, 2900 Major Mackenzie\, Markham\, Ontario\, Canada
END:VEVENT
BEGIN:VEVENT
DTSTART;TZID=America/Toronto:20230713T130000
DTEND;TZID=America/Toronto:20230713T150000
DTSTAMP:20260425T080251
CREATED:20230526T222519Z
LAST-MODIFIED:20230526T222519Z
UID:10551-1689253200-1689260400@thornhillcruiserscarclub.com
SUMMARY:SUNNYBROOK HOSPITAL VETERANS WING
DESCRIPTION:We will be doing a car show at the Sunnybrook Hospital at their Veteran’s Wing on July 13\, 2023.  There will be water and cookies provided. They would like about 8 cars.
URL:https://thornhillcruiserscarclub.com/event/sunnybrook-hospital-veterans-wing-2/
LOCATION:2075 Bayview Ave.\, 2075 Bayview Ave.\, Toronto\, ON\, Canada
END:VEVENT
BEGIN:VEVENT
DTSTART;TZID=America/Toronto:20230710T170000
DTEND;TZID=America/Toronto:20230710T203000
DTSTAMP:20260425T080251
CREATED:20230526T224254Z
LAST-MODIFIED:20230526T224254Z
UID:10565-1689008400-1689021000@thornhillcruiserscarclub.com
SUMMARY:MONDAY NIGHT CAR CRUISE
DESCRIPTION:Welcome to the cruise night sponsored by the Thornhill Cruisers Car Club.  The night will feature some really nice classic cars and some classic music from the era.  As usual\, there are a few good spots here to grab a bit to eat.  There will be a charity draw with the proceeds going to Jumpstart charity.
URL:https://thornhillcruiserscarclub.com/event/monday-night-car-cruise/
LOCATION:2900 Major Mackenzie Road\, 2900 Major Mackenzie\, Markham\, Ontario\, Canada
END:VEVENT
BEGIN:VEVENT
DTSTART;TZID=America/Toronto:20230709T120000
DTEND;TZID=America/Toronto:20230709T180000
DTSTAMP:20260425T080251
CREATED:20230507T210106Z
LAST-MODIFIED:20230614T184319Z
UID:10454-1688904000-1688925600@thornhillcruiserscarclub.com
SUMMARY:ANNUAL RICHMOND HILL MUSIC FESTIVAL
DESCRIPTION:This event is sponsored by Councillor Karen Cilevitz at the Mount Pleasant Park in Richmond Hill.  It will be held on Sunday\, July 19 from 12:00 noon to 6:00 p.m. \nJoin us for 6 hours of continuous live entertainment by local\, original artists and performers!\n~ Free Event to All  ~\n~ 18 Local Original Artists & Performers from Richmond Hill\, York Region & the GTA\n~ Opening Ceremony – 2 pm — Chorus York to perform O Canada followed by a First Nations Land Acknowledgment and Indigenous Drum Circle\n~ Cultural Dancers ~ Artists Merchandise for sale\n~ Food & Ice Cream Trucks (for food and beverage purchases) ~ Water Truck-Bring your refillable containers!\n~ Kids Activities & Face painting  ~ Kids Soccer Clinic  ~ Telescope Viewing & Bottle Rocket Launching ~ Classic and Vintage Car Exhibition courtesy of Thornhill Cruisers\n~ 30+ Exhibitors Tables  ~ Dry food collection for the Richmond Hill Community Food Bank\n~ Bring your outdoor chairs or picnic blankets ~ Dogs on leashes welcome! \n*Special Event Artists Compilation CD for sale to benefit our 3 Charities* \n\nCONTACT KAREN \nOffice: 905-771-2510\nCellular: 416-806-7582\nFax : 905-771-2500\nEmail: karen.cilevitz@richmondhill.ca \n 
URL:https://thornhillcruiserscarclub.com/event/annual-richmond-hill-music-festival/
LOCATION:Mount Pleasant Park – Richmond Hill\, Harding Boulevard West\, Richmond Hill\, Ontario\, L4C 9S5\, Canada
ORGANIZER;CN="Karen Cilevitz":MAILTO:karen.cilevitz@richmondhill.ca
END:VEVENT
BEGIN:VEVENT
DTSTART;TZID=America/Toronto:20230703T170000
DTEND;TZID=America/Toronto:20230703T203000
DTSTAMP:20260425T080251
CREATED:20230526T224025Z
LAST-MODIFIED:20230526T224025Z
UID:10563-1688403600-1688416200@thornhillcruiserscarclub.com
SUMMARY:Monday Night Cruise
DESCRIPTION:We will be holding a regular Monday Night Cruise at the parking lot in front of Canadian Tire at 2900 Major Mackenzie Drive in Markham\, ON\, every Monday night in July.  Stay tuned for further dates.
URL:https://thornhillcruiserscarclub.com/event/monday-night-cruise-20/
LOCATION:2900 Major Mackenzie Road\, 2900 Major Mackenzie\, Markham\, Ontario\, Canada
END:VEVENT
BEGIN:VEVENT
DTSTART;TZID=America/Toronto:20230627T113000
DTEND;TZID=America/Toronto:20230627T140000
DTSTAMP:20260425T080251
CREATED:20230614T184739Z
LAST-MODIFIED:20230614T184739Z
UID:10727-1687865400-1687874400@thornhillcruiserscarclub.com
SUMMARY:Chartwell Oak Ridges Retirement
DESCRIPTION:We are invited to join a BBQ at the Chartwell Seniors Residence\, Oak Ridges.  This event has been rescheduled.
URL:https://thornhillcruiserscarclub.com/event/chartwell-oak-ridges-retirement-2/
LOCATION:Chartwell Oak Ridges Retirement\, 12925 Yonge Street\, Richmond Hill\, Ontario\, L4E 0T7\, Canada
END:VEVENT
BEGIN:VEVENT
DTSTART;TZID=America/Toronto:20230626T170000
DTEND;TZID=America/Toronto:20230626T210000
DTSTAMP:20260425T080251
CREATED:20230507T204941Z
LAST-MODIFIED:20230507T204941Z
UID:10448-1687798800-1687813200@thornhillcruiserscarclub.com
SUMMARY:MONDAY CRUISE NIGHT
DESCRIPTION:Welcome to the Thornhill Cruisers Car Club Monday Cruise Night.  This event will feature some very nice classic cars accompanied by classic music from the era.  Our location also has several good places to grab a bite to eat and drink.  Come on out for an enjoyable evening.
URL:https://thornhillcruiserscarclub.com/event/monday-cruise-night-4/
LOCATION:2900 Major Mackenzie Road\, 2900 Major Mackenzie\, Markham\, Ontario\, Canada
END:VEVENT
BEGIN:VEVENT
DTSTART;TZID=America/Toronto:20230623T110000
DTEND;TZID=America/Toronto:20230623T140000
DTSTAMP:20260425T080251
CREATED:20230526T222004Z
LAST-MODIFIED:20230526T235741Z
UID:10547-1687518000-1687528800@thornhillcruiserscarclub.com
SUMMARY:SUNRISE RETIREMENT HOME - THORNHILL
DESCRIPTION:We are invited to put on a car show at the Sunrise Retirement Home on 484 Steeles Ave. W. in Thornhill\, ON
URL:https://thornhillcruiserscarclub.com/event/sunrise-retirement-home-thornhill/
LOCATION:Sunrise Retirement Home\, 9866 Yonge Street\, Richmond Hill\, Ontario\, Canada
END:VEVENT
BEGIN:VEVENT
DTSTART;TZID=America/Toronto:20230622T110000
DTEND;TZID=America/Toronto:20230622T140000
DTSTAMP:20260425T080251
CREATED:20230507T205340Z
LAST-MODIFIED:20230507T214845Z
UID:10450-1687431600-1687442400@thornhillcruiserscarclub.com
SUMMARY:Cummer Lodge Retirement
DESCRIPTION:We have been invited to attend the Cummer Lodge Retirement home for a classic car show.  In appreciation\, they will be serving lunch. \nThey can handle up to 10 cars so please R.S.V.P. to David Helman \n205 Cummer Ave. Toronto\, ON M2M 2E8. \n  \n 
URL:https://thornhillcruiserscarclub.com/event/cummer-lodge-retirement-2/
LOCATION:CUMMER LODGE\, 205 Cummer Ave.\, Toronto\, Ontario\, M2M 2E8\, Canada
ORGANIZER;CN="City of Toronto":MAILTO:itc-cl@toronto.ca
END:VEVENT
BEGIN:VEVENT
DTSTART;TZID=America/Toronto:20230619T170000
DTEND;TZID=America/Toronto:20230619T210000
DTSTAMP:20260425T080251
CREATED:20230507T204820Z
LAST-MODIFIED:20230507T204820Z
UID:10446-1687194000-1687208400@thornhillcruiserscarclub.com
SUMMARY:MONDAY CRUISE NIGHT
DESCRIPTION:Welcome to the Thornhill Cruisers Car Club Monday Cruise Night.  This event will feature some very nice classic cars accompanied by classic music from the era.  Our location also has several good places to grab a bite to eat and drink.  Come on out for an enjoyable evening.
URL:https://thornhillcruiserscarclub.com/event/monday-cruise-night-3/
LOCATION:2900 Major Mackenzie Road\, 2900 Major Mackenzie\, Markham\, Ontario\, Canada
END:VEVENT
END:VCALENDAR