BEGIN:VCALENDAR
VERSION:2.0
PRODID:-//Thornhill Cruisers Cars Club Canada - ECPv6.7.1//NONSGML v1.0//EN
CALSCALE:GREGORIAN
METHOD:PUBLISH
X-WR-CALNAME:Thornhill Cruisers Cars Club Canada
X-ORIGINAL-URL:https://thornhillcruiserscarclub.com
X-WR-CALDESC:Events for Thornhill Cruisers Cars Club Canada
REFRESH-INTERVAL;VALUE=DURATION:PT1H
X-Robots-Tag:noindex
X-PUBLISHED-TTL:PT1H
BEGIN:VTIMEZONE
TZID:America/Toronto
BEGIN:DAYLIGHT
TZOFFSETFROM:-0500
TZOFFSETTO:-0400
TZNAME:EDT
DTSTART:20230312T070000
END:DAYLIGHT
BEGIN:STANDARD
TZOFFSETFROM:-0400
TZOFFSETTO:-0500
TZNAME:EST
DTSTART:20231105T060000
END:STANDARD
BEGIN:DAYLIGHT
TZOFFSETFROM:-0500
TZOFFSETTO:-0400
TZNAME:EDT
DTSTART:20240310T070000
END:DAYLIGHT
BEGIN:STANDARD
TZOFFSETFROM:-0400
TZOFFSETTO:-0500
TZNAME:EST
DTSTART:20241103T060000
END:STANDARD
END:VTIMEZONE
BEGIN:VEVENT
DTSTART;TZID=America/Toronto:20240725T100000
DTEND;TZID=America/Toronto:20240725T130000
DTSTAMP:20260425T125212
CREATED:20240622T152407Z
LAST-MODIFIED:20240622T165444Z
UID:12424-1721901600-1721912400@thornhillcruiserscarclub.com
SUMMARY:CRUISE TO CUMMER LODGE
DESCRIPTION:We are invited to do a car show at Cummer Lodge on July 25\, 2023. Pizza and refreshments will be served.
URL:https://thornhillcruiserscarclub.com/event/cruise-to-cummer-lodge-2/
LOCATION:CUMMER LODGE\, 205 Cummer Ave.\, Toronto\, Ontario\, M2M 2E8\, Canada
END:VEVENT
BEGIN:VEVENT
DTSTART;TZID=America/Toronto:20240722T163000
DTEND;TZID=America/Toronto:20240722T203000
DTSTAMP:20260425T125212
CREATED:20240622T150149Z
LAST-MODIFIED:20240622T150149Z
UID:12416-1721665800-1721680200@thornhillcruiserscarclub.com
SUMMARY:MONDAY NIGHT CAR CRUISE IN MARKHAM ONTARIO
DESCRIPTION:Welcome to our regular cruise night sponsored by the Thornhill Cruisers Car Club.  The night will feature some really nice classic cars and some classic music from the era.  As usual\, there are a few good spots here to grab a bit to eat.  There will be a charity draw with the proceeds going to Jumpstart charity.
URL:https://thornhillcruiserscarclub.com/event/monday-night-car-cruise-in-markham-ontario-18/
LOCATION:2900 Major Mackenzie Road\, 2900 Major Mackenzie\, Markham\, Ontario\, Canada
END:VEVENT
BEGIN:VEVENT
DTSTART;TZID=America/Toronto:20240715T163000
DTEND;TZID=America/Toronto:20240715T203000
DTSTAMP:20260425T125212
CREATED:20240622T150033Z
LAST-MODIFIED:20240622T150420Z
UID:12414-1721061000-1721075400@thornhillcruiserscarclub.com
SUMMARY:MONDAY NIGHT CAR CRUISE IN MARKHAM ONTARIO
DESCRIPTION:Welcome to our regular cruise night sponsored by the Thornhill Cruisers Car Club.  The night will feature some really nice classic cars and some classic music from the era.  As usual\, there are a few good spots here to grab a bit to eat.  There will be a charity draw with the proceeds going to Jumpstart charity.
URL:https://thornhillcruiserscarclub.com/event/monday-night-car-cruise-in-markham-ontario-17/
LOCATION:2900 Major Mackenzie Road\, 2900 Major Mackenzie\, Markham\, Ontario\, Canada
END:VEVENT
BEGIN:VEVENT
DTSTART;TZID=America/Toronto:20240714T113000
DTEND;TZID=America/Toronto:20240714T150000
DTSTAMP:20260425T125212
CREATED:20240622T151927Z
LAST-MODIFIED:20240622T151927Z
UID:12422-1720956600-1720969200@thornhillcruiserscarclub.com
SUMMARY:ANNUAL RICHMOND HILL MUSIC FESTIVAL
DESCRIPTION:This event is sponsored by Councilor Karen Cilevitz at The Mount Pleasant Park in Richmond Hill.  It will be held on Sunday\, July 14 from 11:30 noon to 3:00 p.m. Join us for 31/2 hours of continuous live entertainment by local\, original artists and performers! ~ Free Event to All  ~ ~ 18 Local Original Artists & Performers from Richmond Hill\, York Region & the GTA ~ Opening Ceremony – 2 pm — Chorus York to perform O Canada followed by a First Nations Land Acknowledgment and Indigenous Drum Circle ~ Cultural Dancers ~ Artists Merchandise for sale ~ Food & Ice Cream Trucks (for food and beverage…
URL:https://thornhillcruiserscarclub.com/event/annual-richmond-hill-music-festival-2/
LOCATION:Mount Pleasant Park – Richmond Hill\, Harding Boulevard West\, Richmond Hill\, Ontario\, L4C 9S5\, Canada
ORGANIZER;CN="Karen Cilevitz":MAILTO:karen.cilevitz@richmondhill.ca
END:VEVENT
BEGIN:VEVENT
DTSTART;TZID=America/Toronto:20240708T163000
DTEND;TZID=America/Toronto:20240708T203000
DTSTAMP:20260425T125212
CREATED:20240622T145907Z
LAST-MODIFIED:20240622T150454Z
UID:12412-1720456200-1720470600@thornhillcruiserscarclub.com
SUMMARY:MONDAY NIGHT CAR CRUISE IN MARKHAM ONTARIO
DESCRIPTION:Welcome to our regular cruise night sponsored by the Thornhill Cruisers Car Club.  The night will feature some really nice classic cars and some classic music from the era.  As usual\, there are a few good spots here to grab a bit to eat.  There will be a charity draw with the proceeds going to Jumpstart charity.
URL:https://thornhillcruiserscarclub.com/event/monday-night-car-cruise-in-markham-ontario-16/
LOCATION:2900 Major Mackenzie Road\, 2900 Major Mackenzie\, Markham\, Ontario\, Canada
END:VEVENT
BEGIN:VEVENT
DTSTART;TZID=America/Toronto:20240704T110000
DTEND;TZID=America/Toronto:20240704T140000
DTSTAMP:20260425T125212
CREATED:20240622T185231Z
LAST-MODIFIED:20240622T191337Z
UID:12453-1720090800-1720101600@thornhillcruiserscarclub.com
SUMMARY:Langstaff Square Community - Sienna Seniors Living
DESCRIPTION:We have another seniors’ home (long-term care) that we will be visiting for a family day and it is in Richmond Hill
URL:https://thornhillcruiserscarclub.com/event/sienna-seniors-living/
LOCATION:Langstaff Square Community – Sienna Seniors Living\, 170 Red Maple Road\, Richmond Hill\, Ontario\, L4B 4T8\, Canada
ORGANIZER;CN="Deniese Johnson":MAILTO:deniese.johnson@siennaliving.ca
END:VEVENT
BEGIN:VEVENT
DTSTART;TZID=America/Toronto:20240701T163000
DTEND;TZID=America/Toronto:20240701T203000
DTSTAMP:20260425T125212
CREATED:20240622T145708Z
LAST-MODIFIED:20240625T014939Z
UID:12410-1719851400-1719865800@thornhillcruiserscarclub.com
SUMMARY:MONDAY NIGHT CAR CRUISE IN MARKHAM ONTARIO
DESCRIPTION:Welcome to our Canada Day cruise night sponsored by the Thornhill Cruisers Car Club.  The night will feature some really nice classic cars and some classic music from the era. We will even be entertained by a live band\, the 45s thanks to a sponsor.  As usual\, there are a few good spots here to grab a bit to eat.  There will be a charity draw with the proceeds going to Jumpstart charity. \nJUST IN!  Apparently the 45’s can’t make it for Canada Day but have promised to come the following Monday\, July 8th.  They are a good group so it’s worth the wait.  Hope to see y’all there.
URL:https://thornhillcruiserscarclub.com/event/monday-night-car-cruise-in-markham-ontario-15/
LOCATION:2900 Major Mackenzie Road\, 2900 Major Mackenzie\, Markham\, Ontario\, Canada
END:VEVENT
BEGIN:VEVENT
DTSTART;TZID=America/Toronto:20240628T110000
DTEND;TZID=America/Toronto:20240628T140000
DTSTAMP:20260425T125212
CREATED:20240622T151251Z
LAST-MODIFIED:20240622T201138Z
UID:12420-1719572400-1719583200@thornhillcruiserscarclub.com
SUMMARY:SUNRISE SENIOR LIVING – THORNHILL
DESCRIPTION:We are invited to put on a car show at the Sunrise Retirement Home on 484 Steeles Ave. W. in Thornhill\, ON.  There will be a BBQ included. Parking will be in the lot to the north side of the building.
URL:https://thornhillcruiserscarclub.com/event/sunrise-thornhill-family-day/
LOCATION:Sunrise Senior Living – Thornhill\, 484 Steeles Ave. W.\, Thornhill\, Ontario\, L4J 0C7\, Canada
END:VEVENT
BEGIN:VEVENT
DTSTART;TZID=America/Toronto:20240624T170000
DTEND;TZID=America/Toronto:20240624T203000
DTSTAMP:20260425T125212
CREATED:20240526T235405Z
LAST-MODIFIED:20240526T235405Z
UID:12262-1719248400-1719261000@thornhillcruiserscarclub.com
SUMMARY:MONDAY NIGHT CAR CRUISE IN MARKHAM ONTARIO
DESCRIPTION:Welcome to our regular cruise night sponsored by the Thornhill Cruisers Car Club.  The night will feature some really nice classic cars and some classic music from the era.  As usual\, there are a few good spots here to grab a bit to eat.  There will be a charity draw with the proceeds going to Jumpstart charity.
URL:https://thornhillcruiserscarclub.com/event/monday-night-car-cruise-in-markham-ontario-14/
LOCATION:2900 Major Mackenzie Road\, 2900 Major Mackenzie\, Markham\, Ontario\, Canada
END:VEVENT
BEGIN:VEVENT
DTSTART;TZID=America/Toronto:20240617T170000
DTEND;TZID=America/Toronto:20240617T203000
DTSTAMP:20260425T125212
CREATED:20240526T235249Z
LAST-MODIFIED:20240526T235249Z
UID:12260-1718643600-1718656200@thornhillcruiserscarclub.com
SUMMARY:MONDAY NIGHT CAR CRUISE IN MARKHAM ONTARIO
DESCRIPTION:Welcome to our regular cruise night sponsored by the Thornhill Cruisers Car Club.  The night will feature some really nice classic cars and some classic music from the era.  As usual\, there are a few good spots here to grab a bit to eat.  There will be a charity draw with the proceeds going to Jumpstart charity.
URL:https://thornhillcruiserscarclub.com/event/monday-night-car-cruise-in-markham-ontario-13/
LOCATION:2900 Major Mackenzie Road\, 2900 Major Mackenzie\, Markham\, Ontario\, Canada
END:VEVENT
BEGIN:VEVENT
DTSTART;TZID=America/Toronto:20240610T170000
DTEND;TZID=America/Toronto:20240610T203000
DTSTAMP:20260425T125212
CREATED:20240526T235135Z
LAST-MODIFIED:20240526T235135Z
UID:12258-1718038800-1718051400@thornhillcruiserscarclub.com
SUMMARY:MONDAY NIGHT CAR CRUISE IN MARKHAM ONTARIO
DESCRIPTION:Welcome to our regular cruise night sponsored by the Thornhill Cruisers Car Club.  The night will feature some really nice classic cars and some classic music from the era.  As usual\, there are a few good spots here to grab a bit to eat.  There will be a charity draw with the proceeds going to Jumpstart charity.
URL:https://thornhillcruiserscarclub.com/event/monday-night-car-cruise-in-markham-ontario-12/
LOCATION:2900 Major Mackenzie Road\, 2900 Major Mackenzie\, Markham\, Ontario\, Canada
END:VEVENT
BEGIN:VEVENT
DTSTART;TZID=America/Toronto:20240610T170000
DTEND;TZID=America/Toronto:20240610T203000
DTSTAMP:20260425T125212
CREATED:20240526T235005Z
LAST-MODIFIED:20240526T235005Z
UID:12256-1718038800-1718051400@thornhillcruiserscarclub.com
SUMMARY:MONDAY NIGHT CAR CRUISE IN MARKHAM ONTARIO
DESCRIPTION:Welcome to our regular cruise night sponsored by the Thornhill Cruisers Car Club.  The night will feature some really nice classic cars and some classic music from the era.  As usual\, there are a few good spots here to grab a bit to eat.  There will be a charity draw with the proceeds going to Jumpstart charity.
URL:https://thornhillcruiserscarclub.com/event/monday-night-car-cruise-in-markham-ontario-11/
LOCATION:2900 Major Mackenzie Road\, 2900 Major Mackenzie\, Markham\, Ontario\, Canada
END:VEVENT
BEGIN:VEVENT
DTSTART;TZID=America/Toronto:20240608T110000
DTEND;TZID=America/Toronto:20240608T140000
DTSTAMP:20260425T125212
CREATED:20240527T222928Z
LAST-MODIFIED:20240527T223611Z
UID:12344-1717844400-1717855200@thornhillcruiserscarclub.com
SUMMARY:Kingsway Place Seniors Residence
DESCRIPTION:We are invited again to attend family day at the Kingsway Place Seniors Residence in Aurora Ontario.  The parking lot can hold 10 – 12 cars so please R.S.V.P. to David Helman.  They will be serving lunch to those bringing classic cars to this event.
URL:https://thornhillcruiserscarclub.com/event/kingsway-place-seniors-residence-3/
LOCATION:Kingsway Place – Aurora\, 145 Murray Drive\, Aurora\, Ontario\, L4G 2C7\, Canada
ORGANIZER;CN="Filippo Zinga":MAILTO:filippoz@kingswayaurora.com
END:VEVENT
BEGIN:VEVENT
DTSTART;TZID=America/Toronto:20240603T170000
DTEND;TZID=America/Toronto:20240603T203000
DTSTAMP:20260425T125212
CREATED:20240526T234832Z
LAST-MODIFIED:20240526T234832Z
UID:12254-1717434000-1717446600@thornhillcruiserscarclub.com
SUMMARY:MONDAY NIGHT CAR CRUISE IN MARKHAM ONTARIO
DESCRIPTION:Welcome to our regular cruise night sponsored by the Thornhill Cruisers Car Club.  The night will feature some really nice classic cars and some classic music from the era.  As usual\, there are a few good spots here to grab a bit to eat.  There will be a charity draw with the proceeds going to Jumpstart charity.
URL:https://thornhillcruiserscarclub.com/event/monday-night-car-cruise-in-markham-ontario-10/
LOCATION:2900 Major Mackenzie Road\, 2900 Major Mackenzie\, Markham\, Ontario\, Canada
END:VEVENT
BEGIN:VEVENT
DTSTART;TZID=America/Toronto:20240527T170000
DTEND;TZID=America/Toronto:20240527T203000
DTSTAMP:20260425T125212
CREATED:20240526T234626Z
LAST-MODIFIED:20240526T234626Z
UID:12252-1716829200-1716841800@thornhillcruiserscarclub.com
SUMMARY:MONDAY NIGHT CAR CRUISE IN MARKHAM ONTARIO
DESCRIPTION:Welcome to our regular cruise night sponsored by the Thornhill Cruisers Car Club.  The night will feature some really nice classic cars and some classic music from the era.  As usual\, there are a few good spots here to grab a bit to eat.  There will be a charity draw with the proceeds going to Jumpstart charity. \nPLEASE NOTE THAT DUE TO INCLEMENT WEATHER PREDICTED FOR MONDAY\, THIS EVENT IS NOW CANCELLED.  SEE YOU ALL NEXT MONDAY.
URL:https://thornhillcruiserscarclub.com/event/monday-night-car-cruise-in-markham-ontario-9/
LOCATION:2900 Major Mackenzie Road\, 2900 Major Mackenzie\, Markham\, Ontario\, Canada
END:VEVENT
BEGIN:VEVENT
DTSTART;TZID=America/Toronto:20240520T160000
DTEND;TZID=America/Toronto:20240520T210000
DTSTAMP:20260425T125212
CREATED:20240504T224234Z
LAST-MODIFIED:20240504T224234Z
UID:12228-1716220800-1716238800@thornhillcruiserscarclub.com
SUMMARY:2024 Season Opener Cruise
DESCRIPTION:We are back in 2024!!!  Our club has been cleared to hold our cruises every Monday night in the parking lot at Canadian Tire at 2900 Major Mackenzie Road\, just east of Hwy #404. Our opening night will commence on Monday\, May 20 at 4:00 p.m. and we will be featuring a live band.  The 45’s will put on a great show just like they did last year. \nHill House Hospice will also be in attendance\, and we ask that you bring some paper goods and/or a cash donation. \nAs always\, our club welcomes new members\, and they will be able to sign up at this cruise or any other.  The cost is still $35.00 in spite of inflation\, so this is now a bargain!  We are looking for young\, interested members who want to participate in a great club with a great history!
URL:https://thornhillcruiserscarclub.com/event/2024-season-opener-cruise/
LOCATION:2900 Major Mackenzie Road\, 2900 Major Mackenzie\, Markham\, Ontario\, Canada
END:VEVENT
BEGIN:VEVENT
DTSTART;TZID=America/Toronto:20231015T160000
DTEND;TZID=America/Toronto:20231015T203000
DTSTAMP:20260425T125212
CREATED:20230920T180213Z
LAST-MODIFIED:20231008T160810Z
UID:12133-1697385600-1697401800@thornhillcruiserscarclub.com
SUMMARY:The Thornhill Cruisers Car Club Annual General Meeting
DESCRIPTION:We will be having our Annual General Meeting on Sunday\, October 15\, 2023\, at Swan Lake development in Markham.  Particulars including directions will follow.  If you plan on attending\, please R.S.V.P. to David Helman at 416-222-5640 or by email:  david.helman43@yahoo.com \n 
URL:https://thornhillcruiserscarclub.com/event/the-thornhill-cruisers-car-club-annual-general-meeting/
LOCATION:Amica Swan Lake\, 6360 16th Avenue\, Markham\, Ontario\, L3P 7Y6\, Canada
END:VEVENT
BEGIN:VEVENT
DTSTART;TZID=America/Toronto:20230925T173000
DTEND;TZID=America/Toronto:20230925T193000
DTSTAMP:20260425T125212
CREATED:20230916T220008Z
LAST-MODIFIED:20230920T174753Z
UID:11758-1695663000-1695670200@thornhillcruiserscarclub.com
SUMMARY:MONDAY NIGHT CAR CRUISE IN MARKHAM ONTARIO
DESCRIPTION:Our regular cruise nights sponsored by the Thornhill Cruisers Car Club are finished for this season.  We had some good cruises this year and are looking forward to an even better 2024.  As usual our next Monday Night Cruise in Markham Ontario will commence after the Victoria Day weekend in May\, 2024.  Hope to see you all there. \n  \n 
URL:https://thornhillcruiserscarclub.com/event/monday-night-car-cruise-in-markham-ontario-8/
LOCATION:2900 Major Mackenzie Road\, 2900 Major Mackenzie\, Markham\, Ontario\, Canada
END:VEVENT
BEGIN:VEVENT
DTSTART;TZID=America/Toronto:20230918T173000
DTEND;TZID=America/Toronto:20230918T193000
DTSTAMP:20260425T125212
CREATED:20230916T215744Z
LAST-MODIFIED:20230916T215744Z
UID:11756-1695058200-1695065400@thornhillcruiserscarclub.com
SUMMARY:MONDAY NIGHT CAR CRUISE IN MARKHAM ONTARIO
DESCRIPTION:Welcome to our regular cruise night sponsored by the Thornhill Cruisers Car Club.  The night will feature some really nice classic cars and some classic music from the era.  As usual\, there are a few good spots here to grab a bit to eat.  There will also be a charity draw with the proceeds going to the Jumpstart charity.
URL:https://thornhillcruiserscarclub.com/event/monday-night-car-cruise-in-markham-ontario-7/
LOCATION:2900 Major Mackenzie Road\, 2900 Major Mackenzie\, Markham\, Ontario\, Canada
END:VEVENT
BEGIN:VEVENT
DTSTART;TZID=America/Toronto:20230911T173000
DTEND;TZID=America/Toronto:20230911T193000
DTSTAMP:20260425T125212
CREATED:20230916T215539Z
LAST-MODIFIED:20230916T215539Z
UID:11754-1694453400-1694460600@thornhillcruiserscarclub.com
SUMMARY:MONDAY NIGHT CAR CRUISE IN MARKHAM ONTARIO
DESCRIPTION:Welcome to our regular cruise night sponsored by the Thornhill Cruisers Car Club.  The night will feature some really nice classic cars and some classic music from the era.  As usual\, there are a few good spots here to grab a bit to eat.  There will also be a charity draw with the proceeds going to the Jumpstart charity.
URL:https://thornhillcruiserscarclub.com/event/monday-night-car-cruise-in-markham-ontario-6/
LOCATION:2900 Major Mackenzie Road\, 2900 Major Mackenzie\, Markham\, Ontario\, Canada
END:VEVENT
BEGIN:VEVENT
DTSTART;TZID=America/Toronto:20230904T173000
DTEND;TZID=America/Toronto:20230904T193000
DTSTAMP:20260425T125212
CREATED:20230916T215355Z
LAST-MODIFIED:20230916T215355Z
UID:11752-1693848600-1693855800@thornhillcruiserscarclub.com
SUMMARY:MONDAY NIGHT CAR CRUISE IN MARKHAM ONTARIO
DESCRIPTION:Welcome to our regular cruise night sponsored by the Thornhill Cruisers Car Club.  The night will feature some really nice classic cars and some classic music from the era.  As usual\, there are a few good spots here to grab a bit to eat.  There will also be a charity draw with the proceeds going to the Jumpstart charity.
URL:https://thornhillcruiserscarclub.com/event/monday-night-car-cruise-in-markham-ontario-5/
LOCATION:2900 Major Mackenzie Road\, 2900 Major Mackenzie\, Markham\, Ontario\, Canada
END:VEVENT
BEGIN:VEVENT
DTSTART;TZID=America/Toronto:20230901T110000
DTEND;TZID=America/Toronto:20230901T140000
DTSTAMP:20260425T125212
CREATED:20230722T213145Z
LAST-MODIFIED:20230722T213145Z
UID:11195-1693566000-1693576800@thornhillcruiserscarclub.com
SUMMARY:Cheltenham Care Community
DESCRIPTION:We are invited back to the Cheltenham Care Community on east side of Bathurst Street just south of Steeles Ave.  They will be serving lunch.  up to 8 cars are being requested.
URL:https://thornhillcruiserscarclub.com/event/cheltenham-care-community/
LOCATION:Cheltenham Care Community\, 5935 Bathurst Street\, Toronto\, Ontario\, M2R 1Y8\, Canada
END:VEVENT
BEGIN:VEVENT
DTSTART;TZID=America/Toronto:20230831T130000
DTEND;TZID=America/Toronto:20230831T160000
DTSTAMP:20260425T125212
CREATED:20230722T212111Z
LAST-MODIFIED:20230816T183714Z
UID:11184-1693486800-1693497600@thornhillcruiserscarclub.com
SUMMARY:Chartwell Woodhaven Long Term Care Residence
DESCRIPTION:We were asked to put on another car show at the Cartwell Woodhaven Long Term Care Residence in Markham\, ON.  There will be a BBQ included.
URL:https://thornhillcruiserscarclub.com/event/chartwell-woodhaven-long-term-care-residence/
LOCATION:Chartwell Woodhaven Long Term Care Residence\, 380 Church Street\, Markham\, Ontario\, Canada
END:VEVENT
BEGIN:VEVENT
DTSTART;TZID=America/Toronto:20230829T130000
DTEND;TZID=America/Toronto:20230829T160000
DTSTAMP:20260425T125212
CREATED:20230722T212828Z
LAST-MODIFIED:20230726T000539Z
UID:11190-1693314000-1693324800@thornhillcruiserscarclub.com
SUMMARY:Chartwell Alexander Muir Retirement Residence
DESCRIPTION:We are invited for another car show at the Chartwell Alexander Muir Retirement Residence in Newmarket Ontario.  They can handle up to 20 cars.  Lunch will be served.
URL:https://thornhillcruiserscarclub.com/event/chartwell-alexander-muir-retirement-residence-2/
LOCATION:Chartwell Alexander Muir Retirement Residence\, 197 Prospect Street\, Newmarket\, Ontario\, Canada
END:VEVENT
BEGIN:VEVENT
DTSTART;TZID=America/Toronto:20230828T170000
DTEND;TZID=America/Toronto:20230828T200000
DTSTAMP:20260425T125212
CREATED:20230526T225345Z
LAST-MODIFIED:20230526T225345Z
UID:10579-1693242000-1693252800@thornhillcruiserscarclub.com
SUMMARY:MONDAY NIGHT CAR CRUISE IN MARKHAM ONTARIO
DESCRIPTION:Welcome to our regular cruise night sponsored by the Thornhill Cruisers Car Club.  The night will feature some really nice classic cars and some classic music from the era.  As usual\, there are a few good spots here to grab a bit to eat.  There will be a charity draw with the proceeds going to Jumpstart charity.
URL:https://thornhillcruiserscarclub.com/event/monday-night-car-cruise-in-markham-ontario-4/
LOCATION:2900 Major Mackenzie Road\, 2900 Major Mackenzie\, Markham\, Ontario\, Canada
END:VEVENT
BEGIN:VEVENT
DTSTART;TZID=America/Toronto:20230827T090000
DTEND;TZID=America/Toronto:20230827T170000
DTSTAMP:20260425T125212
CREATED:20230826T201945Z
LAST-MODIFIED:20230826T201945Z
UID:11749-1693126800-1693155600@thornhillcruiserscarclub.com
SUMMARY:GUELPH RIBFEST
DESCRIPTION:This yearly event has been held in Guelph for a long time.  It is easy to get to and you can drive on Hwy. #7 to Guelph or the 401 (less scenic).  Lots of choice of ribs and they have a great car show to boot.
URL:https://thornhillcruiserscarclub.com/event/guelph-ribfest-4/
LOCATION:Guelph Ribfest\, Canada
ORGANIZER;CN="Sonia Spekkens%2C Dan O'Donnell":MAILTO:entertainment@ribfestguelph.com
END:VEVENT
BEGIN:VEVENT
DTSTART;TZID=America/Toronto:20230826T110000
DTEND;TZID=America/Toronto:20230826T170000
DTSTAMP:20260425T125212
CREATED:20230721T221827Z
LAST-MODIFIED:20230721T225139Z
UID:11152-1693047600-1693069200@thornhillcruiserscarclub.com
SUMMARY:Copper Kettle Festival - Creemore Springs
DESCRIPTION:You’re Invited – Copper Kettle FestivalThere will be another Copper Kettle Festival in Creemore on Saturday\, August 26 starting at 11 am.  This event features a terrific car show plus a tour of the famous Creemore brewery.  There will be a farmers market and several sidewalk musicians.  This is a full day event and lots of fun. \nYou’re invited! \nHi Folks\, \nFor the first time in two years\, we held our Copper Kettle Festival in 2022\, and we couldn’t of asked for a better day to celebrate our 35th birthday! \nThis year\, our Copper Kettle Festival will be held on August 26th\, 2023 so save the date! You can expect a day filled with great beer\, food and music as well as activities the whole family will love. \nIf you have questions or would like to get in touch with us\, please email thefolks@creemoresprings.com \nSee you in August! \nTheSchedule \ndate: august 26th\, 2023 \nlocation: creemore\, on
URL:https://thornhillcruiserscarclub.com/event/copper-kettle-festival-creemore-2/
LOCATION:Creemore Valley\, 172 Mill Street\, Creemore\, Ontario\, Canada
ORGANIZER;CN="thefolks@creemoresprings.com":MAILTO:thefolks@creemoresprings.com
END:VEVENT
BEGIN:VEVENT
DTSTART;TZID=America/Toronto:20230825T120000
DTEND;TZID=America/Toronto:20230825T230000
DTSTAMP:20260425T125212
CREATED:20230721T222416Z
LAST-MODIFIED:20230721T224725Z
UID:11154-1692964800-1693004400@thornhillcruiserscarclub.com
SUMMARY:Guelph Ribfest
DESCRIPTION:This is a 3 day event starting on Friday\, August 25 from 12 noon to 11pm and continuing on Saturday\, August 26 from 11 am to 11 pm and finishing on Sunday\, August 27 at 9 am to 3:30 pm. \nLocation: 709 Woolwich Street\, Guelph\, ON N1H 7G6 \n 
URL:https://thornhillcruiserscarclub.com/event/guelph-ribfest-3/
LOCATION:Guelph Ribfest\, Canada
END:VEVENT
BEGIN:VEVENT
DTSTART;TZID=America/Toronto:20230824T100000
DTEND;TZID=America/Toronto:20230824T130000
DTSTAMP:20260425T125212
CREATED:20230526T223430Z
LAST-MODIFIED:20230816T184827Z
UID:10561-1692871200-1692882000@thornhillcruiserscarclub.com
SUMMARY:NEWMARKET HEALTH CENTRE
DESCRIPTION:We will be doing a car show at the Newmarket Health Centre on August 24th.  They are looking for about 20 cars and will provide lunch.
URL:https://thornhillcruiserscarclub.com/event/newmarket-health-centre-4/
LOCATION:Newmarket Health Centre\, 194 Eagle Street\, Newmarket\, Ontario\, L3Y 1J6\, Canada
ORGANIZER;CN="Betsy Anderson":MAILTO:betsy.anderson@york.ca
END:VEVENT
BEGIN:VEVENT
DTSTART;TZID=America/Toronto:20230821T170000
DTEND;TZID=America/Toronto:20230821T200000
DTSTAMP:20260425T125212
CREATED:20230526T225219Z
LAST-MODIFIED:20230526T225219Z
UID:10577-1692637200-1692648000@thornhillcruiserscarclub.com
SUMMARY:MONDAY NIGHT CAR CRUISE IN MARKHAM ONTARIO
DESCRIPTION:Welcome to our regular cruise night sponsored by the Thornhill Cruisers Car Club.  The night will feature some really nice classic cars and some classic music from the era.  As usual\, there are a few good spots here to grab a bit to eat.  There will be a charity draw with the proceeds going to Jumpstart charity.
URL:https://thornhillcruiserscarclub.com/event/monday-night-car-cruise-in-markham-ontario-3/
LOCATION:2900 Major Mackenzie Road\, 2900 Major Mackenzie\, Markham\, Ontario\, Canada
END:VEVENT
END:VCALENDAR