BEGIN:VCALENDAR
VERSION:2.0
PRODID:-//Thornhill Cruisers Cars Club Canada - ECPv6.7.1//NONSGML v1.0//EN
CALSCALE:GREGORIAN
METHOD:PUBLISH
X-WR-CALNAME:Thornhill Cruisers Cars Club Canada
X-ORIGINAL-URL:https://thornhillcruiserscarclub.com
X-WR-CALDESC:Events for Thornhill Cruisers Cars Club Canada
REFRESH-INTERVAL;VALUE=DURATION:PT1H
X-Robots-Tag:noindex
X-PUBLISHED-TTL:PT1H
BEGIN:VTIMEZONE
TZID:America/Toronto
BEGIN:DAYLIGHT
TZOFFSETFROM:-0500
TZOFFSETTO:-0400
TZNAME:EDT
DTSTART:20240310T070000
END:DAYLIGHT
BEGIN:STANDARD
TZOFFSETFROM:-0400
TZOFFSETTO:-0500
TZNAME:EST
DTSTART:20241103T060000
END:STANDARD
BEGIN:DAYLIGHT
TZOFFSETFROM:-0500
TZOFFSETTO:-0400
TZNAME:EDT
DTSTART:20250309T070000
END:DAYLIGHT
BEGIN:STANDARD
TZOFFSETFROM:-0400
TZOFFSETTO:-0500
TZNAME:EST
DTSTART:20251102T060000
END:STANDARD
END:VTIMEZONE
BEGIN:VEVENT
DTSTART;TZID=America/Toronto:20250701T180000
DTEND;TZID=America/Toronto:20250701T203000
DTSTAMP:20260425T074041
CREATED:20250629T012158Z
LAST-MODIFIED:20250629T012158Z
UID:17351-1751392800-1751401800@thornhillcruiserscarclub.com
SUMMARY:CANADA DAY CAR SHOW
DESCRIPTION:Welcome to the Canada Day Car Show sponsored by the Highway 11 Cruisers Car Club.
URL:https://thornhillcruiserscarclub.com/event/canada-day-car-show/
LOCATION:Highway 11 Cruisers Kruzin’ for a Cause\, 17860 Yonge Street\, Newmarket\, Ontario\, Canada
ORGANIZER;CN="Hwy. 11 Cruisers Car Club":MAILTO:highway11cruisers@gmail.com
END:VEVENT
BEGIN:VEVENT
DTSTART;TZID=America/Toronto:20250630T163000
DTEND;TZID=America/Toronto:20250630T203000
DTSTAMP:20260425T074042
CREATED:20250531T005633Z
LAST-MODIFIED:20250531T005633Z
UID:17088-1751301000-1751315400@thornhillcruiserscarclub.com
SUMMARY:Monday Night Cruise in Markham
DESCRIPTION:This will be the last cruise night in June for our club so please join us for a nice evening with some great classics\, good music\, food and camaraderie.
URL:https://thornhillcruiserscarclub.com/event/monday-night-cruise-in-markham-6/
LOCATION:2900 Major Mackenzie Road\, 2900 Major Mackenzie\, Markham\, Ontario\, Canada
END:VEVENT
BEGIN:VEVENT
DTSTART;TZID=America/Toronto:20250629T100000
DTEND;TZID=America/Toronto:20250629T160000
DTSTAMP:20260425T074042
CREATED:20250629T012818Z
LAST-MODIFIED:20250629T012818Z
UID:17114-1751191200-1751212800@thornhillcruiserscarclub.com
SUMMARY:Car and Truck Show at Rush Truck Centre
DESCRIPTION:Join us for a day of fun featuring a 50/50 draw\, free prizes and live music from a DJ.  Be sure to arrive early\, the first 200 attendess will receive a free BB sandwich and drink.
URL:https://thornhillcruiserscarclub.com/event/car-and-truck-show-at-rush-truck-centre/
LOCATION:RushTruckCentres.ca\, 8240 Woodbine Ave.\, Markham\, Ontario\, Canada
END:VEVENT
BEGIN:VEVENT
DTSTART;TZID=America/Toronto:20250623T163000
DTEND;TZID=America/Toronto:20250623T203000
DTSTAMP:20260425T074042
CREATED:20250531T005330Z
LAST-MODIFIED:20250531T005330Z
UID:17086-1750696200-1750710600@thornhillcruiserscarclub.com
SUMMARY:Monday Night Cruise in Markham
DESCRIPTION:Please join our club at our classic car cruise in Markham.  There are some good places to grab a bite in the plaza but more important\, there are some really nice classic cars to see and perhaps meet some of the owners (who like to talk about their cars).
URL:https://thornhillcruiserscarclub.com/event/monday-night-cruise-in-markham-5/
LOCATION:2900 Major Mackenzie Road\, 2900 Major Mackenzie\, Markham\, Ontario\, Canada
END:VEVENT
BEGIN:VEVENT
DTSTART;TZID=America/Toronto:20250620T170000
DTEND;TZID=America/Toronto:20250620T220000
DTSTAMP:20260425T074042
CREATED:20250618T200452Z
LAST-MODIFIED:20250618T201315Z
UID:17119-1750438800-1750456800@thornhillcruiserscarclub.com
SUMMARY:Markham Village Music Festival
DESCRIPTION:A music festival is being held in Markham Village on Main Street.  The first 100 show car drivers to register at the MSC Tent will receive a $10 meal voucher plus a chance to win a free door prize.  This will be the largest outdoor music festival in York Region with 5 stages of live music and dance. \nCar show entrance will be off 34 George St. behind the St. Andrews Presbyterian Church
URL:https://thornhillcruiserscarclub.com/event/markham-village-music-festival/
LOCATION:Markham Village Music Festival\, Main Street\,\, Markham\, Ontario\, Canada
ORGANIZER;CN="Judi McIntyre":MAILTO:judimci@rogers.com
END:VEVENT
BEGIN:VEVENT
DTSTART;TZID=America/Toronto:20250616T163000
DTEND;TZID=America/Toronto:20250616T203000
DTSTAMP:20260425T074042
CREATED:20250531T005012Z
LAST-MODIFIED:20250531T005012Z
UID:17084-1750091400-1750105800@thornhillcruiserscarclub.com
SUMMARY:Monday Night Cruise in Markham
DESCRIPTION:There will be another classic cruise night in Markham\, weather permitting of course\, at the Canadian Tire parking lot at 2900 Major Mackenzie Drive. As always\, there will be good food in the plaza\, lots of camaraderie and some great classic cars.
URL:https://thornhillcruiserscarclub.com/event/monday-night-cruise-in-markham-4/
LOCATION:2900 Major Mackenzie Road\, 2900 Major Mackenzie\, Markham\, Ontario\, Canada
END:VEVENT
BEGIN:VEVENT
DTSTART;TZID=America/Toronto:20250615T110000
DTEND;TZID=America/Toronto:20250615T150000
DTSTAMP:20260425T074042
CREATED:20250606T000640Z
LAST-MODIFIED:20250606T000640Z
UID:17092-1749985200-1749999600@thornhillcruiserscarclub.com
SUMMARY:Highway 11 Fathers' Day Cruise
DESCRIPTION:You are invited to attend the Fathers’ Day cruise being sponsored by the Highway 11 Cruisers Car Club.  This promises to be a fun event for the whole family.
URL:https://thornhillcruiserscarclub.com/event/highway-11-fathers-day-cruise/
LOCATION:Hwy. 11 Cruisers Car Club Fathers’ Day Show\, 1201 Castlemore Ave.\, Markham\, Ontario\, Canada
ORGANIZER;CN="Hwy. 11 Cruisers Car Club":MAILTO:highway11cruisers@gmail.com
END:VEVENT
BEGIN:VEVENT
DTSTART;TZID=America/Toronto:20250613T110000
DTEND;TZID=America/Toronto:20250613T140000
DTSTAMP:20260425T074042
CREATED:20250531T004715Z
LAST-MODIFIED:20250531T010422Z
UID:17082-1749812400-1749823200@thornhillcruiserscarclub.com
SUMMARY:Cruise to Kingsway Place Retirement Residence
DESCRIPTION:We were invited once again to Kingsway Place Retirement Residence in Aurora.  There will be a BBQ that we are invited to join in on and some really nice classic cars. Martin Silver is organizing this event so please let him know if you plan on coming.  Their parking lot is limited to 10 cars.
URL:https://thornhillcruiserscarclub.com/event/cruise-to-kingsway/
LOCATION:Kingsway Place – Aurora\, 145 Murray Drive\, Aurora\, Ontario\, L4G 2C7\, Canada
ORGANIZER;CN="Ray Barlow":MAILTO:rayb@kingswayaurora.com
END:VEVENT
BEGIN:VEVENT
DTSTART;TZID=America/Toronto:20250610T180000
DTEND;TZID=America/Toronto:20250610T210000
DTSTAMP:20260425T074042
CREATED:20250606T001817Z
LAST-MODIFIED:20250606T001817Z
UID:17096-1749578400-1749589200@thornhillcruiserscarclub.com
SUMMARY:Highway 11 Cruisers Kruzin' for a Cause Car Show
DESCRIPTION:The Highway 11 Cruisers are providing a spectacular cruise night every Tuesday from May 27th to October 28th starting at 6:00 to 9:00 p.m. This event draws a lot of really nice classic cars and is free to attend. \n 
URL:https://thornhillcruiserscarclub.com/event/highway-11-cruisers-kruzin-for-a-cause-car-show/
LOCATION:Highway 11 Cruisers Kruzin’ for a Cause\, 17860 Yonge Street\, Newmarket\, Ontario\, Canada
ORGANIZER;CN="Hwy. 11 Cruisers Car Club":MAILTO:highway11cruisers@gmail.com
END:VEVENT
BEGIN:VEVENT
DTSTART;TZID=America/Toronto:20250609T163000
DTEND;TZID=America/Toronto:20250609T203000
DTSTAMP:20260425T074042
CREATED:20250531T003942Z
LAST-MODIFIED:20250531T003942Z
UID:17080-1749486600-1749501000@thornhillcruiserscarclub.com
SUMMARY:Monday Night Cruise in Markham
DESCRIPTION:Weather permitting\, we are planning to have another cruise night in the Canadian Tire parking lot at 2900 Major Mackenzie Drive.  Please join us for a night of great classic cars and good food. There will be a 50/50 draw with the proceeds going to the Jumpstart charity.
URL:https://thornhillcruiserscarclub.com/event/monday-night-cruise-in-markham-3/
LOCATION:2900 Major Mackenzie Road\, 2900 Major Mackenzie\, Markham\, Ontario\, Canada
END:VEVENT
BEGIN:VEVENT
DTSTART;TZID=America/Toronto:20250602T170000
DTEND;TZID=America/Toronto:20250602T203000
DTSTAMP:20260425T074042
CREATED:20250504T223407Z
LAST-MODIFIED:20250504T223407Z
UID:16952-1748883600-1748896200@thornhillcruiserscarclub.com
SUMMARY:Monday Night Cruise in Markham
DESCRIPTION:Welcome to our Monday Night Cruise.  We will be holding these Monday Night cruises every Monday until Labour Day\, weather permitting of course.
URL:https://thornhillcruiserscarclub.com/event/monday-night-cruise-in-markham-2/
LOCATION:2900 Major Mackenzie Road\, 2900 Major Mackenzie\, Markham\, Ontario\, Canada
END:VEVENT
BEGIN:VEVENT
DTSTART;TZID=America/Toronto:20250526T170000
DTEND;TZID=America/Toronto:20250526T203000
DTSTAMP:20260425T074042
CREATED:20250504T223212Z
LAST-MODIFIED:20250504T223212Z
UID:16950-1748278800-1748291400@thornhillcruiserscarclub.com
SUMMARY:Monday Night Cruise in Markham
DESCRIPTION:Welcome to our Monday Night Cruise.  We will be holding these Monday Night cruises every Monday until Labour Day\, weather permitting of course. If the weather looks bad or if questionable\, we will try to call the cruise on our website.  Looking forward to an enjoyable season of classic car cruising. Hope to see many of you there.
URL:https://thornhillcruiserscarclub.com/event/monday-night-cruise-in-markham/
LOCATION:2900 Major Mackenzie Road\, 2900 Major Mackenzie\, Markham\, Ontario\, Canada
END:VEVENT
BEGIN:VEVENT
DTSTART;TZID=America/Toronto:20250519T170000
DTEND;TZID=America/Toronto:20250519T210000
DTSTAMP:20260425T074042
CREATED:20250504T222519Z
LAST-MODIFIED:20250504T222519Z
UID:16948-1747674000-1747688400@thornhillcruiserscarclub.com
SUMMARY:Season Opener for 2025
DESCRIPTION:Welcome everyone!  Our first cruise of the season is scheduled for Monday\, May 19th at 5:00 p.m. It will be an exciting event as we have invited Elvis(s) to put on a live performance for your entertainment so make sure you bring some lounge chairs so you sit down and enjoy.  We will also be selling some club shirts and hats if anyone is interested. We are looking for new participating members.  Our fees are a low $40.00 for the season.
URL:https://thornhillcruiserscarclub.com/event/season-opener-for-2025/
LOCATION:2900 Major Mackenzie Road\, 2900 Major Mackenzie\, Markham\, Ontario\, Canada
END:VEVENT
BEGIN:VEVENT
DTSTART;TZID=America/Toronto:20241020T150000
DTEND;TZID=America/Toronto:20241020T200000
DTSTAMP:20260425T074042
CREATED:20240907T010004Z
LAST-MODIFIED:20240907T010004Z
UID:13752-1729436400-1729454400@thornhillcruiserscarclub.com
SUMMARY:ANNUAL GENERAL MEETING AND BBQ
DESCRIPTION:We will be having our Annual General Meeting and BBQ at the Swan Lake Gardens Club House main room.  This event is for members only.
URL:https://thornhillcruiserscarclub.com/event/annual-general-meeting-and-bbq/
LOCATION:Swan Lake Gardens Club House Main Room\, 25 Belle Terre Way\, Markham\, Ontario\, L6E 2A2\, Canada
END:VEVENT
BEGIN:VEVENT
DTSTART;TZID=America/Toronto:20241007T160000
DTEND;TZID=America/Toronto:20241007T190000
DTSTAMP:20260425T074042
CREATED:20241006T233650Z
LAST-MODIFIED:20241006T233650Z
UID:16861-1728316800-1728327600@thornhillcruiserscarclub.com
SUMMARY:Last Monday Night Cruise of the Year
DESCRIPTION:Well\, it’s getting colder outside and the days are getting shorter.  We are willing to have one more go at it and have a cruise on Monday night\, October 7\, 2024\, but starting earlier at 4:00 p.m and going on until dark (around 7:00 pm.) Hope to see you all there.
URL:https://thornhillcruiserscarclub.com/event/last-monday-night-cruise-of-the-year/
LOCATION:2900 Major Mackenzie Road\, 2900 Major Mackenzie\, Markham\, Ontario\, Canada
END:VEVENT
BEGIN:VEVENT
DTSTART;TZID=America/Toronto:20240930T170000
DTEND;TZID=America/Toronto:20240930T193000
DTSTAMP:20260425T074042
CREATED:20240907T005345Z
LAST-MODIFIED:20240907T005345Z
UID:13750-1727715600-1727724600@thornhillcruiserscarclub.com
SUMMARY:MONDAY NIGHT CAR CRUISE IN MARKHAM ONTARIO
DESCRIPTION:Welcome to our regular cruise night sponsored by the Thornhill Cruisers Car Club weather permitting of course.  The night will feature some really nice classic cars and some classic music from the era.  As usual\, there are a few good spots here to grab a bite to eat.  There will be a charity draw with the proceeds going to Jumpstart charity.
URL:https://thornhillcruiserscarclub.com/event/monday-night-car-cruise-in-markham-ontario-28/
LOCATION:2900 Major Mackenzie Road\, 2900 Major Mackenzie\, Markham\, Ontario\, Canada
END:VEVENT
BEGIN:VEVENT
DTSTART;TZID=America/Toronto:20240923T170000
DTEND;TZID=America/Toronto:20240923T200000
DTSTAMP:20260425T074042
CREATED:20240907T005155Z
LAST-MODIFIED:20240907T005155Z
UID:13748-1727110800-1727121600@thornhillcruiserscarclub.com
SUMMARY:MONDAY NIGHT CAR CRUISE IN MARKHAM ONTARIO
DESCRIPTION:Welcome to our regular cruise night sponsored by the Thornhill Cruisers Car Club weather permitting of course.  The night will feature some really nice classic cars and some classic music from the era.  As usual\, there are a few good spots here to grab a bite to eat.  There will be a charity draw with the proceeds going to Jumpstart charity.
URL:https://thornhillcruiserscarclub.com/event/monday-night-car-cruise-in-markham-ontario-27/
LOCATION:2900 Major Mackenzie Road\, 2900 Major Mackenzie\, Markham\, Ontario\, Canada
END:VEVENT
BEGIN:VEVENT
DTSTART;TZID=America/Toronto:20240916T170000
DTEND;TZID=America/Toronto:20240916T200000
DTSTAMP:20260425T074042
CREATED:20240907T005016Z
LAST-MODIFIED:20240907T005016Z
UID:13746-1726506000-1726516800@thornhillcruiserscarclub.com
SUMMARY:MONDAY NIGHT CAR CRUISE IN MARKHAM ONTARIO
DESCRIPTION:Welcome to our regular cruise night sponsored by the Thornhill Cruisers Car Club weather permitting of course.  The night will feature some really nice classic cars and some classic music from the era.  As usual\, there are a few good spots here to grab a bite to eat.  There will be a charity draw with the proceeds going to Jumpstart charity.
URL:https://thornhillcruiserscarclub.com/event/monday-night-car-cruise-in-markham-ontario-26/
LOCATION:2900 Major Mackenzie Road\, 2900 Major Mackenzie\, Markham\, Ontario\, Canada
END:VEVENT
BEGIN:VEVENT
DTSTART;TZID=America/Toronto:20240914T090000
DTEND;TZID=America/Toronto:20240914T143000
DTSTAMP:20260425T074042
CREATED:20240622T184315Z
LAST-MODIFIED:20240622T184315Z
UID:12450-1726304400-1726324200@thornhillcruiserscarclub.com
SUMMARY:Durham Region All Ford Show
DESCRIPTION:Hosted by the Durham Region Classic Mustang Club. \nCharity BBQ\, 50/50 draw\, Raffle table\, draw prizes\, Live Auction\, Sponsor corral\, DJ\, and Duel Exhaust Performs Live! \nOpen to ALL-year Ford\, Lincoln\, Mercury Cars\, Trucks & Street Rods! Limited Space.  This show is expected to sell out FAST! \nNew this year – To qualify for awards you will need to have Pre-registered by end of day\, September 12th as we have implemented a few changes to this year’s format.  1) We are limiting the number of entrants to 250 vehicles.  2) Spectator parking available\, at a cost of $5.00 per vehicle. Spectator entry is still free.  3) We will have a new main stage area mid-show field to ensure the DJ\, Band\, and all announcements can be heard across the entire show field. \nMany Awards to be Won. \nPre-Registration by end day Sept. 12th – $20 per vehicle to qualify for awards \nRegistration on Sept. 13th and day of show – $20 per vehicle\, however\, you do not qualify for awards. All show cars are eligible for draw prizes.
URL:https://thornhillcruiserscarclub.com/event/durham-region-all-ford-show/
LOCATION:Jansen Farm 1063 Marydale Park Road\, Port Hope\, 1063 Marydale Park Road\, Port Hope\, Ontario\, Canada
END:VEVENT
BEGIN:VEVENT
DTSTART;TZID=America/Toronto:20240914T080000
DTEND;TZID=America/Toronto:20240914T150000
DTSTAMP:20260425T074042
CREATED:20240622T155119Z
LAST-MODIFIED:20240622T155119Z
UID:12434-1726300800-1726326000@thornhillcruiserscarclub.com
SUMMARY:MARKHAM STOUFFVILLE CRUISERS MOTORFEST
DESCRIPTION:This event will be sponsored by the Markham Stouffville Cruisers Car Club and will feature door prizes\, entertainment\, 50/50 draw\, trophies\, food truck\, valve cover racing and much more!  Will be held at Memorial Park\, 2 Park Drive\, Whitchurch-Stouffville\, Ontario.  Entrance off Main St. and Park at east centre end of town.
URL:https://thornhillcruiserscarclub.com/event/markham-stouffville-cruisers-motorfest/
LOCATION:MEMORIAL PARK\, 2 Park Drive\, Stouffville\, Ontario\, Canada
ORGANIZER;CN="Markham-Stouffville Cruisers Car Club":MAILTO:markhamstouffvillecruisersclub@gmail.com
END:VEVENT
BEGIN:VEVENT
DTSTART;TZID=America/Toronto:20240909T170000
DTEND;TZID=America/Toronto:20240909T200000
DTSTAMP:20260425T074042
CREATED:20240907T004808Z
LAST-MODIFIED:20240907T004808Z
UID:13744-1725901200-1725912000@thornhillcruiserscarclub.com
SUMMARY:MONDAY NIGHT CAR CRUISE IN MARKHAM ONTARIO
DESCRIPTION:Welcome to our regular cruise night sponsored by the Thornhill Cruisers Car Club weather permitting of course.  The night will feature some really nice classic cars and some classic music from the era.  As usual\, there are a few good spots here to grab a bite to eat.  There will be a charity draw with the proceeds going to Jumpstart charity. As long as the weather permits\, we will continue to hold our Monday Night cruise to the end of September.  Hope to see you there.
URL:https://thornhillcruiserscarclub.com/event/monday-night-car-cruise-in-markham-ontario-25/
LOCATION:2900 Major Mackenzie Road\, 2900 Major Mackenzie\, Markham\, Ontario\, Canada
END:VEVENT
BEGIN:VEVENT
DTSTART;TZID=America/Toronto:20240905T100000
DTEND;TZID=America/Toronto:20240905T130000
DTSTAMP:20260425T074042
CREATED:20240622T153943Z
LAST-MODIFIED:20240622T153943Z
UID:12430-1725530400-1725541200@thornhillcruiserscarclub.com
SUMMARY:NEWMARKET HEALTH CENTRE
DESCRIPTION:We will be doing a car show at the Newmarket Health Centre on August 24th.  They are looking for about 20 cars and will provide lunch.
URL:https://thornhillcruiserscarclub.com/event/newmarket-health-centre-5/
LOCATION:Eagle Terrace Long Term Care\, 329 Eagle Street\, Newmarket\, Ontario\, L3Y 1K3\, Canada
ORGANIZER;CN="Betsy Anderson":MAILTO:betsy.anderson@york.ca
END:VEVENT
BEGIN:VEVENT
DTSTART;TZID=America/Toronto:20240902T163000
DTEND;TZID=America/Toronto:20240902T200000
DTSTAMP:20260425T074042
CREATED:20240622T200114Z
LAST-MODIFIED:20240819T022019Z
UID:12471-1725294600-1725307200@thornhillcruiserscarclub.com
SUMMARY:MONDAY NIGHT CAR CRUISE IN MARKHAM ONTARIO
DESCRIPTION:Welcome to our final cruise night of the 2024 season\, sponsored by the Thornhill Cruisers Car Club.  The night will feature some really nice classic cars\, some classic music from the era and a live band.  As usual\, there are a few good spots here to grab a bit to eat.  There will be a charity draw with the proceeds going to Jumpstart charity. Please note that the club will be continuing our cruise nights well into September\, weather permitting of course.  Please keep in touch with this website for further information.
URL:https://thornhillcruiserscarclub.com/event/monday-night-car-cruise-in-markham-ontario-24/
LOCATION:2900 Major Mackenzie Road\, 2900 Major Mackenzie\, Markham\, Ontario\, Canada
END:VEVENT
BEGIN:VEVENT
DTSTART;TZID=America/Toronto:20240831T110000
DTEND;TZID=America/Toronto:20240831T170000
DTSTAMP:20260425T074042
CREATED:20240622T153157Z
LAST-MODIFIED:20240622T153157Z
UID:12426-1725102000-1725123600@thornhillcruiserscarclub.com
SUMMARY:MS Road to a Cure Car Show
DESCRIPTION:Will be held indoors at the Bloomington Road ‘GO Station’ at Bloomington Road and Hwy. #404 (south-west quadrant). This event is sponsored by the Markham-Stouffville Cruisers Car Club. \nSpectator tickets and car registration available online
URL:https://thornhillcruiserscarclub.com/event/ms-road-to-a-cure-car-show-2/
LOCATION:Bloomington Road GO Station\, Markham\, Ontario\, Canada
ORGANIZER;CN="Markham-Stouffville Cruisers Car Club":MAILTO:markhamstouffvillecruisersclub@gmail.com
END:VEVENT
BEGIN:VEVENT
DTSTART;TZID=America/Toronto:20240829T100000
DTEND;TZID=America/Toronto:20240829T130000
DTSTAMP:20260425T074042
CREATED:20240622T154228Z
LAST-MODIFIED:20240622T165053Z
UID:12432-1724925600-1724936400@thornhillcruiserscarclub.com
SUMMARY:Amica – Swan Lake Retirement
DESCRIPTION:We are invited to bring our classics to Amica Swan Lake Retirement Home in Markham.  They are looking for 10 – 15 cars and will be providing lunch for the classic car guests.
URL:https://thornhillcruiserscarclub.com/event/amica-swan-lake-retirement-2/
LOCATION:Amica Swan Lake\, 6360 16th Avenue\, Markham\, Ontario\, L3P 7Y6\, Canada
END:VEVENT
BEGIN:VEVENT
DTSTART;TZID=America/Toronto:20240826T170000
DTEND;TZID=America/Toronto:20240826T203000
DTSTAMP:20260425T074042
CREATED:20240622T195727Z
LAST-MODIFIED:20240622T195727Z
UID:12469-1724691600-1724704200@thornhillcruiserscarclub.com
SUMMARY:MONDAY NIGHT CAR CRUISE IN MARKHAM ONTARIO
DESCRIPTION:Welcome to our regular cruise night sponsored by the Thornhill Cruisers Car Club.  The night will feature some really nice classic cars and some classic music from the era.  As usual\, there are a few good spots here to grab a bit to eat.  There will be a charity draw with the proceeds going to Jumpstart charity.
URL:https://thornhillcruiserscarclub.com/event/monday-night-car-cruise-in-markham-ontario-23/
LOCATION:2900 Major Mackenzie Road\, 2900 Major Mackenzie\, Markham\, Ontario\, Canada
END:VEVENT
BEGIN:VEVENT
DTSTART;TZID=America/Toronto:20240824T110000
DTEND;TZID=America/Toronto:20240824T230000
DTSTAMP:20260425T074042
CREATED:20240622T182559Z
LAST-MODIFIED:20240622T182559Z
UID:12448-1724497200-1724540400@thornhillcruiserscarclub.com
SUMMARY:Guelph RibFest 2024
DESCRIPTION:This yearly event has been held in Guelph for a long time.  It is easy to get to and you can drive on Hwy. #7 to Guelph or the 401 (less scenic).  Lots of choice of ribs and they have a great car show to boot.
URL:https://thornhillcruiserscarclub.com/event/guelph-ribfest-2024/
LOCATION:Guelph Ribfest\, Canada
ORGANIZER;CN="Sonia Spekkens%2C Dan O'Donnell":MAILTO:entertainment@ribfestguelph.com
END:VEVENT
BEGIN:VEVENT
DTSTART;TZID=America/Toronto:20240824T083000
DTEND;TZID=America/Toronto:20240824T160000
DTSTAMP:20260425T074042
CREATED:20240622T180805Z
LAST-MODIFIED:20240622T180805Z
UID:12439-1724488200-1724515200@thornhillcruiserscarclub.com
SUMMARY:Creemore Copper Kettle Festival
DESCRIPTION:Certainly! The Copper Kettle Festival is returning on August 24th\, 2024. This celebration\, hosted by Creemore Springs\, takes place in downtown Creemore\, Ontario. Here’s what you can expect at the festival: \n\nLive Music: Enjoy live music throughout the day.\nGreat Food and Drinks: Indulge in delicious food and beverages.\nLocal Artisans Market: Explore unique creations by local artisans.\nClassic Car Show: Don’t miss the classic car show from 10 AM to 4 PM.\nBrewery Tours: Take brewery tours from 11 AM to 6 PM.\nKids’ Activities: Fun activities for the little ones!\n\nMark your calendar for this exciting event! 🎉 For more details\, you can visit the official Creemore Springs Copper Kettle Festival page
URL:https://thornhillcruiserscarclub.com/event/creemore-copper-kettle-festival/
LOCATION:Creemore Valley\, 172 Mill Street\, Creemore\, Ontario\, Canada
END:VEVENT
BEGIN:VEVENT
DTSTART;TZID=America/Toronto:20240819T170000
DTEND;TZID=America/Toronto:20240819T203000
DTSTAMP:20260425T074042
CREATED:20240622T195610Z
LAST-MODIFIED:20240622T195610Z
UID:12467-1724086800-1724099400@thornhillcruiserscarclub.com
SUMMARY:MONDAY NIGHT CAR CRUISE IN MARKHAM ONTARIO
DESCRIPTION:Welcome to our regular cruise night sponsored by the Thornhill Cruisers Car Club.  The night will feature some really nice classic cars and some classic music from the era.  As usual\, there are a few good spots here to grab a bit to eat.  There will be a charity draw with the proceeds going to Jumpstart charity.
URL:https://thornhillcruiserscarclub.com/event/monday-night-car-cruise-in-markham-ontario-22/
LOCATION:2900 Major Mackenzie Road\, 2900 Major Mackenzie\, Markham\, Ontario\, Canada
END:VEVENT
BEGIN:VEVENT
DTSTART;TZID=America/Toronto:20240818T110000
DTEND;TZID=America/Toronto:20240818T170000
DTSTAMP:20260425T074042
CREATED:20240622T160505Z
LAST-MODIFIED:20240622T165226Z
UID:12437-1723978800-1724000400@thornhillcruiserscarclub.com
SUMMARY:SHARON TEMPLE MUSEUM CRUISE
DESCRIPTION:Sponsored by Highway 11 Cruisers C.C.\, Jonathan Melo and 6 others. “Our Summer Fest 024 Car Show at the Sharon Temple is returning once again!!! We’ll have live music\, vendors\, prizes and fun for the whole family! Gates open at 11 a.m. on Sunday\, August 18.  Bring your Classic Cars\, Hot Rods\, REstoMods\, Rat Rods\, Trucks\, Motorcycles or even your tractor.  Everyone welcome!!  Spectators are welcome to attend the event\, please park on a nearby street\, as the on-property lots are dedicated to those displaying their cool rides. There is limited parking onsite for those spectators with Mobility Permits.  As at all our exciting events\, we will be collecting donations for a charity at this event.  Donation drums will be located at the Club Trailer where our Swag is available for purchase.”
URL:https://thornhillcruiserscarclub.com/event/sharon-temple-museum-cruise/
LOCATION:Sharon Temple & Museum\, 18974 Leslie St.\, East Gwillimbury\, Ontario\, L0G 1V0\, Canada
ORGANIZER;CN="Hwy. 11 Cruisers Car Club":MAILTO:highway11cruisers@gmail.com
END:VEVENT
END:VCALENDAR