BEGIN:VCALENDAR
VERSION:2.0
PRODID:-//Thornhill Cruisers Cars Club Canada - ECPv6.7.1//NONSGML v1.0//EN
CALSCALE:GREGORIAN
METHOD:PUBLISH
X-WR-CALNAME:Thornhill Cruisers Cars Club Canada
X-ORIGINAL-URL:https://thornhillcruiserscarclub.com
X-WR-CALDESC:Events for Thornhill Cruisers Cars Club Canada
REFRESH-INTERVAL;VALUE=DURATION:PT1H
X-Robots-Tag:noindex
X-PUBLISHED-TTL:PT1H
BEGIN:VTIMEZONE
TZID:America/Toronto
BEGIN:DAYLIGHT
TZOFFSETFROM:-0500
TZOFFSETTO:-0400
TZNAME:EDT
DTSTART:20220313T070000
END:DAYLIGHT
BEGIN:STANDARD
TZOFFSETFROM:-0400
TZOFFSETTO:-0500
TZNAME:EST
DTSTART:20221106T060000
END:STANDARD
BEGIN:DAYLIGHT
TZOFFSETFROM:-0500
TZOFFSETTO:-0400
TZNAME:EDT
DTSTART:20230312T070000
END:DAYLIGHT
BEGIN:STANDARD
TZOFFSETFROM:-0400
TZOFFSETTO:-0500
TZNAME:EST
DTSTART:20231105T060000
END:STANDARD
END:VTIMEZONE
BEGIN:VEVENT
DTSTART;TZID=America/Toronto:20230703T170000
DTEND;TZID=America/Toronto:20230703T203000
DTSTAMP:20260425T212319
CREATED:20230526T224025Z
LAST-MODIFIED:20230526T224025Z
UID:10563-1688403600-1688416200@thornhillcruiserscarclub.com
SUMMARY:Monday Night Cruise
DESCRIPTION:We will be holding a regular Monday Night Cruise at the parking lot in front of Canadian Tire at 2900 Major Mackenzie Drive in Markham\, ON\, every Monday night in July.  Stay tuned for further dates.
URL:https://thornhillcruiserscarclub.com/event/monday-night-cruise-20/
LOCATION:2900 Major Mackenzie Road\, 2900 Major Mackenzie\, Markham\, Ontario\, Canada
END:VEVENT
BEGIN:VEVENT
DTSTART;TZID=America/Toronto:20230627T113000
DTEND;TZID=America/Toronto:20230627T140000
DTSTAMP:20260425T212319
CREATED:20230614T184739Z
LAST-MODIFIED:20230614T184739Z
UID:10727-1687865400-1687874400@thornhillcruiserscarclub.com
SUMMARY:Chartwell Oak Ridges Retirement
DESCRIPTION:We are invited to join a BBQ at the Chartwell Seniors Residence\, Oak Ridges.  This event has been rescheduled.
URL:https://thornhillcruiserscarclub.com/event/chartwell-oak-ridges-retirement-2/
LOCATION:Chartwell Oak Ridges Retirement\, 12925 Yonge Street\, Richmond Hill\, Ontario\, L4E 0T7\, Canada
END:VEVENT
BEGIN:VEVENT
DTSTART;TZID=America/Toronto:20230626T170000
DTEND;TZID=America/Toronto:20230626T210000
DTSTAMP:20260425T212319
CREATED:20230507T204941Z
LAST-MODIFIED:20230507T204941Z
UID:10448-1687798800-1687813200@thornhillcruiserscarclub.com
SUMMARY:MONDAY CRUISE NIGHT
DESCRIPTION:Welcome to the Thornhill Cruisers Car Club Monday Cruise Night.  This event will feature some very nice classic cars accompanied by classic music from the era.  Our location also has several good places to grab a bite to eat and drink.  Come on out for an enjoyable evening.
URL:https://thornhillcruiserscarclub.com/event/monday-cruise-night-4/
LOCATION:2900 Major Mackenzie Road\, 2900 Major Mackenzie\, Markham\, Ontario\, Canada
END:VEVENT
BEGIN:VEVENT
DTSTART;TZID=America/Toronto:20230623T110000
DTEND;TZID=America/Toronto:20230623T140000
DTSTAMP:20260425T212319
CREATED:20230526T222004Z
LAST-MODIFIED:20230526T235741Z
UID:10547-1687518000-1687528800@thornhillcruiserscarclub.com
SUMMARY:SUNRISE RETIREMENT HOME - THORNHILL
DESCRIPTION:We are invited to put on a car show at the Sunrise Retirement Home on 484 Steeles Ave. W. in Thornhill\, ON
URL:https://thornhillcruiserscarclub.com/event/sunrise-retirement-home-thornhill/
LOCATION:Sunrise Retirement Home\, 9866 Yonge Street\, Richmond Hill\, Ontario\, Canada
END:VEVENT
BEGIN:VEVENT
DTSTART;TZID=America/Toronto:20230622T110000
DTEND;TZID=America/Toronto:20230622T140000
DTSTAMP:20260425T212319
CREATED:20230507T205340Z
LAST-MODIFIED:20230507T214845Z
UID:10450-1687431600-1687442400@thornhillcruiserscarclub.com
SUMMARY:Cummer Lodge Retirement
DESCRIPTION:We have been invited to attend the Cummer Lodge Retirement home for a classic car show.  In appreciation\, they will be serving lunch. \nThey can handle up to 10 cars so please R.S.V.P. to David Helman \n205 Cummer Ave. Toronto\, ON M2M 2E8. \n  \n 
URL:https://thornhillcruiserscarclub.com/event/cummer-lodge-retirement-2/
LOCATION:CUMMER LODGE\, 205 Cummer Ave.\, Toronto\, Ontario\, M2M 2E8\, Canada
ORGANIZER;CN="City of Toronto":MAILTO:itc-cl@toronto.ca
END:VEVENT
BEGIN:VEVENT
DTSTART;TZID=America/Toronto:20230619T170000
DTEND;TZID=America/Toronto:20230619T210000
DTSTAMP:20260425T212319
CREATED:20230507T204820Z
LAST-MODIFIED:20230507T204820Z
UID:10446-1687194000-1687208400@thornhillcruiserscarclub.com
SUMMARY:MONDAY CRUISE NIGHT
DESCRIPTION:Welcome to the Thornhill Cruisers Car Club Monday Cruise Night.  This event will feature some very nice classic cars accompanied by classic music from the era.  Our location also has several good places to grab a bite to eat and drink.  Come on out for an enjoyable evening.
URL:https://thornhillcruiserscarclub.com/event/monday-cruise-night-3/
LOCATION:2900 Major Mackenzie Road\, 2900 Major Mackenzie\, Markham\, Ontario\, Canada
END:VEVENT
BEGIN:VEVENT
DTSTART;TZID=America/Toronto:20230616T110000
DTEND;TZID=America/Toronto:20230616T140000
DTSTAMP:20260425T212319
CREATED:20230507T203334Z
LAST-MODIFIED:20230507T203334Z
UID:10438-1686913200-1686924000@thornhillcruiserscarclub.com
SUMMARY:Kingsway Place Seniors Residence
DESCRIPTION:We are invited again to attend family day at the Kingsway Place Seniors Residence in Aurora Ontario.  The parking lot can hold 8 – 10 cars so please R.S.V.P. to David Helman.  They will be serving lunch to those bringing classic cars to this event.
URL:https://thornhillcruiserscarclub.com/event/kingsway-place-seniors-residence-2/
LOCATION:Kingsway Place – Aurora\, 145 Murray Drive\, Aurora\, Ontario\, L4G 2C7\, Canada
ORGANIZER;CN="Ray Barlow":MAILTO:rayb@kingswayaurora.com
END:VEVENT
BEGIN:VEVENT
DTSTART;TZID=America/Toronto:20230612T170000
DTEND;TZID=America/Toronto:20230612T210000
DTSTAMP:20260425T212319
CREATED:20230507T204646Z
LAST-MODIFIED:20230507T204646Z
UID:10444-1686589200-1686603600@thornhillcruiserscarclub.com
SUMMARY:MONDAY CRUISE NIGHT
DESCRIPTION:Welcome to the Thornhill Cruisers Car Club Monday Cruise Night.  This event will feature some very nice classic cars accompanied by classic music from the era.  Our location also has several good places to grab a bite to eat and drink.  Come on out for an enjoyable evening.
URL:https://thornhillcruiserscarclub.com/event/monday-cruise-night-2/
LOCATION:2900 Major Mackenzie Road\, 2900 Major Mackenzie\, Markham\, Ontario\, Canada
END:VEVENT
BEGIN:VEVENT
DTSTART;TZID=America/Toronto:20230608T113000
DTEND;TZID=America/Toronto:20230608T143000
DTSTAMP:20260425T212319
CREATED:20230526T221336Z
LAST-MODIFIED:20230526T221336Z
UID:10545-1686223800-1686234600@thornhillcruiserscarclub.com
SUMMARY:CHARTWELL OAK RIDGES RETIREMENT HOME
DESCRIPTION:We are invited to the Chartwell Retirement Home in Oak Ridges for a family day car show. Snacks & refreshments will be served
URL:https://thornhillcruiserscarclub.com/event/chartwell-oak-ridges-retirement-home/
LOCATION:Chartwell Oak Ridges Retirement\, 12925 Yonge Street\, Richmond Hill\, Ontario\, L4E 0T7\, Canada
END:VEVENT
BEGIN:VEVENT
DTSTART;TZID=America/Toronto:20230605T170000
DTEND;TZID=America/Toronto:20230605T210000
DTSTAMP:20260425T212319
CREATED:20230507T204337Z
LAST-MODIFIED:20230507T204337Z
UID:10442-1685984400-1685998800@thornhillcruiserscarclub.com
SUMMARY:MONDAY NIGHT CRUISE
DESCRIPTION:Welcome to the cruise night sponsored by the Thornhill Cruisers Car Club.  The night will feature some really nice classic cars and some classic music from the era.  As usual\, there are a few good spots here to grab a bit to eat.  There will be a charity draw with the proceeds going to Jumpstart charity.
URL:https://thornhillcruiserscarclub.com/event/monday-night-cruise-19/
LOCATION:2900 Major Mackenzie Road\, 2900 Major Mackenzie\, Markham\, Ontario\, Canada
END:VEVENT
BEGIN:VEVENT
DTSTART;TZID=America/Toronto:20230529T170000
DTEND;TZID=America/Toronto:20230529T210000
DTSTAMP:20260425T212319
CREATED:20230507T203950Z
LAST-MODIFIED:20230507T203950Z
UID:10440-1685379600-1685394000@thornhillcruiserscarclub.com
SUMMARY:MONDAY NIGHT CRUISE
DESCRIPTION:Welcome to the Monday Night Cruise sponsored by the Thornhill Cruisers Car Club.  This event will be held in the Canadian Tire parking lot at 2900 Major Mackenzie Ave. in Markham\, Ontario.  The event will start at 5:30 p.m. and run to dusk (8:30 p.m. +/-) and feature some very nice classic cars.  Enjoy dinner at Montana’s\, Harvey’s or Swiss Chalet or have a great coffee at Starbucks.  This will be an enjoyable evening.
URL:https://thornhillcruiserscarclub.com/event/monday-night-cruise-18/
LOCATION:2900 Major Mackenzie Road\, 2900 Major Mackenzie\, Markham\, Ontario\, Canada
END:VEVENT
BEGIN:VEVENT
DTSTART;TZID=America/Toronto:20230522T160000
DTEND;TZID=America/Toronto:20230522T210000
DTSTAMP:20260425T212319
CREATED:20230507T202907Z
LAST-MODIFIED:20230507T202907Z
UID:10436-1684771200-1684789200@thornhillcruiserscarclub.com
SUMMARY:2023 MONDAY NIGHT CRUISE - SEASON OPENER
DESCRIPTION:Welcome to our first Monday Night cruise for 2023.  We will be at the same parking lot next to Canadian Tire at 2900 Major Mackenzie Road in Markham and will be featuring a live band to bring in the new season.  Hill House Hospice representatives will also be there so please bring with some dry goods to donate to them (i.e. paper goods and cash money).
URL:https://thornhillcruiserscarclub.com/event/2023-monday-night-cruise-season-opener/
LOCATION:2900 Major Mackenzie Road\, 2900 Major Mackenzie\, Markham\, Ontario\, Canada
END:VEVENT
BEGIN:VEVENT
DTSTART;TZID=America/Toronto:20221003T163000
DTEND;TZID=America/Toronto:20221003T193000
DTSTAMP:20260425T212319
CREATED:20220912T184631Z
LAST-MODIFIED:20220920T001659Z
UID:10201-1664814600-1664825400@thornhillcruiserscarclub.com
SUMMARY:MONDAY NIGHT CRUISE - October 3\, 2022
DESCRIPTION:Our regular Monday Night Cruise will start at 5:00 p.m. to dark.  There will be a 50/50 draw at 7:00 p.m. with proceeds going to the Jumpstart charity.  As well\, there will be some awesome classic cars.  Everyone is welcome and there is no charge for admission.
URL:https://thornhillcruiserscarclub.com/event/monday-night-cruise-october-3-2022/
LOCATION:2900 Major Mackenzie Road\, 2900 Major Mackenzie\, Markham\, Ontario\, Canada
END:VEVENT
BEGIN:VEVENT
DTSTART;TZID=America/Toronto:20220926T163000
DTEND;TZID=America/Toronto:20220926T193000
DTSTAMP:20260425T212319
CREATED:20220912T184518Z
LAST-MODIFIED:20220926T222555Z
UID:10199-1664209800-1664220600@thornhillcruiserscarclub.com
SUMMARY:MONDAY NIGHT CRUISE - September 26\, 2022
DESCRIPTION:Our regular Monday Night Cruise will start at 5:00 p.m. to dark.  There will be a 50/50 draw at 7:00 p.m. with proceeds going to the Jumpstart charity.  As well\, there will be some awesome classic cars.  Everyone is welcome and there is no charge for admission. \nTONIGHTS CRUISE HAS BEEN CANCELLED DUE TO THREATENING WEATHER (RAIN)
URL:https://thornhillcruiserscarclub.com/event/monday-night-cruise-september-26-2022/
LOCATION:2900 Major Mackenzie Road\, 2900 Major Mackenzie\, Markham\, Ontario\, Canada
END:VEVENT
BEGIN:VEVENT
DTSTART;TZID=America/Toronto:20220925T110000
DTEND;TZID=America/Toronto:20220925T150000
DTSTAMP:20260425T212319
CREATED:20220920T002615Z
LAST-MODIFIED:20220924T030344Z
UID:10204-1664103600-1664118000@thornhillcruiserscarclub.com
SUMMARY:Canadian Tire Richmond Hill Cruise
DESCRIPTION:We have been invited again to a cruise at Canadian Tire in Richmond Hill Ontario.  They are looking for up to 75 cars and will be serving snacks and door prizes. \nTHIS EVENT HAS BEEN CANCELLED DUE TO INCLEMENT WEATHER FORECAST
URL:https://thornhillcruiserscarclub.com/event/canadian-tire-richmond-hill-cruise-2/
LOCATION:Canadian Tire Richmond Hill\, 11720 Yonge Street\, Richmond Hill\, Ontario\, Canada
END:VEVENT
BEGIN:VEVENT
DTSTART;TZID=America/Toronto:20220919T163000
DTEND;TZID=America/Toronto:20220919T193000
DTSTAMP:20260425T212319
CREATED:20220912T184242Z
LAST-MODIFIED:20220920T001233Z
UID:10197-1663605000-1663615800@thornhillcruiserscarclub.com
SUMMARY:MONDAY NIGHT CRUISE - September 19\, 2022
DESCRIPTION:Our regular Monday Night Cruise will start at 5:00 p.m. to dark.  There will be a 50/50 draw at 7:00 p.m. with proceeds going to the Jumpstart charity.  As well\, there will be some awesome classic cars.  Everyone is welcome and there is no charge for admission.
URL:https://thornhillcruiserscarclub.com/event/monday-night-cruise-september-19-2022/
LOCATION:2900 Major Mackenzie Road\, 2900 Major Mackenzie\, Markham\, Ontario\, Canada
END:VEVENT
BEGIN:VEVENT
DTSTART;TZID=America/Toronto:20220910T120000
DTEND;TZID=America/Toronto:20220910T143000
DTSTAMP:20260425T212319
CREATED:20220730T220115Z
LAST-MODIFIED:20220730T220115Z
UID:9619-1662811200-1662820200@thornhillcruiserscarclub.com
SUMMARY:Presentation Manor
DESCRIPTION:We are invited to do a classic car show at Presentation Manor in Scarborough.  Lunch will be served
URL:https://thornhillcruiserscarclub.com/event/presentation-manor/
LOCATION:Presentation Manor\, 61 Fairfax Crescent\, Scarborough\, Ontario\, M1L 1Z7\, Canada
END:VEVENT
BEGIN:VEVENT
DTSTART;TZID=America/Toronto:20220905T170000
DTEND;TZID=America/Toronto:20220905T193000
DTSTAMP:20260425T212319
CREATED:20220716T222619Z
LAST-MODIFIED:20220730T214751Z
UID:9337-1662397200-1662406200@thornhillcruiserscarclub.com
SUMMARY:Labour Day Cruise - September 5\, 2022
DESCRIPTION:Welcome to our annual Labour Day holiday cruise night featuring The 45’s band! some great classic cars and some great car aficionado camaraderie. We will be having our usual 50/50 draw with proceeds going to Jumpstart charity. There will also be door prizes and a car-of-the-week plaque.  This promises to be a fun-filled night so come on out and enjoy!
URL:https://thornhillcruiserscarclub.com/event/labour-day-cruise-september-5-2022/
LOCATION:2900 Major Mackenzie Road\, 2900 Major Mackenzie\, Markham\, Ontario\, Canada
END:VEVENT
BEGIN:VEVENT
DTSTART;TZID=America/Toronto:20220903T110000
DTEND;TZID=America/Toronto:20220903T140000
DTSTAMP:20260425T212319
CREATED:20220718T163132Z
LAST-MODIFIED:20220718T163132Z
UID:9342-1662202800-1662213600@thornhillcruiserscarclub.com
SUMMARY:CHELTENHAM FAMILY DAY BBQ
DESCRIPTION:We are invited once again to join the staff at Cheltenham Care Community for a family day BBQ and Car Show.  We are looking for 15+ cars to this event so come on out and join us for a fun-filled day. \n  \n 
URL:https://thornhillcruiserscarclub.com/event/cheltenham-family-day-bbq/
LOCATION:Cheltenham Care Community\, 5935 Bathurst Street\, Toronto\, Ontario\, M2R 1Y8\, Canada
END:VEVENT
BEGIN:VEVENT
DTSTART;TZID=America/Toronto:20220829T173000
DTEND;TZID=America/Toronto:20220829T200000
DTSTAMP:20260425T212319
CREATED:20220716T221916Z
LAST-MODIFIED:20220829T201435Z
UID:9335-1661794200-1661803200@thornhillcruiserscarclub.com
SUMMARY:Monday Night Cruise - August 29\, 2022
DESCRIPTION:Monday Night Cruise – August 29\, 2022 \n @ 5:30 pm – 8:30 pm \nFree \nOur regular Monday Night Cruise will start at 5:30 p.m. to dark.  There will be a 50/50 draw at 7:15 p.m. with proceeds going to Jumpstart charity.  As well\, there will be some awesome classic cars.  Everyone is welcome and there is no charge for admission. \nTONIGHTS CRUISE HAS BEEN CANCELLED DUE TO INCLEMENT WEATHER.  HOPE TO SEE YOU ALL NEXT WEEK
URL:https://thornhillcruiserscarclub.com/event/monday-night-cruise-august-29-2022/
LOCATION:2900 Major Mackenzie Road\, 2900 Major Mackenzie\, Markham\, Ontario\, Canada
END:VEVENT
BEGIN:VEVENT
DTSTART;TZID=America/Toronto:20220828T090000
DTEND;TZID=America/Toronto:20220828T150000
DTSTAMP:20260425T212319
CREATED:20220817T212001Z
LAST-MODIFIED:20220817T212001Z
UID:9917-1661677200-1661698800@thornhillcruiserscarclub.com
SUMMARY:Guelph RibFest
DESCRIPTION:This yearly event has been held in Guelph for a long time.  It is easy to get to and you can drive on Hwy. #7 to Guelph or the 401 (less scenic).  Lots of choice of ribs and they have a great car show to boot.
URL:https://thornhillcruiserscarclub.com/event/guelph-ribfest-2/
LOCATION:Riverside Park\, 709 Woolwich Street\, Guelph\, Ontario\, Canada
ORGANIZER;CN="Sonia Spekkens%2C Dan O'Donnell":MAILTO:entertainment@ribfestguelph.com
END:VEVENT
BEGIN:VEVENT
DTSTART;TZID=America/Toronto:20220827T083000
DTEND;TZID=America/Toronto:20220827T160000
DTSTAMP:20260425T212319
CREATED:20220716T221208Z
LAST-MODIFIED:20220716T221208Z
UID:9329-1661589000-1661616000@thornhillcruiserscarclub.com
SUMMARY:Copper Kettle Festival
DESCRIPTION:Creemore Valley Classics – Copper Kettle Festival presented by Creemore Springs Brewery \nWe cannot wait to welcome you to the village of Creemore in celebration of our 35th birthday!  You can expect a day filled with great beer\, food\, music as well as activities the whole family will love. \nlocation: Creemore\, on \n\n8:30am – 12:30pm – Creemore farmer’s market\n10am – 4pm – classic car show & makers market\n11am – beinn gorm highlanders pipe and drum band parade down mill street\n11am – 4pm – brewery tours\n11am – 6pm – beer garden with live music\n\n12pm: golden feather\n1:30pm: born in the eighties\n3pm: the redhill valleys\n4:30pm: terra lightfoot\n\n\n11am – 5pm – kids activities
URL:https://thornhillcruiserscarclub.com/event/copper-kettle-festival/
LOCATION:Creemore Valley\, 172 Mill Street\, Creemore\, Ontario\, Canada
ORGANIZER;CN="thefolks@creemoresprings.com":MAILTO:thefolks@creemoresprings.com
END:VEVENT
BEGIN:VEVENT
DTSTART;TZID=America/Toronto:20220822T173000
DTEND;TZID=America/Toronto:20220822T200000
DTSTAMP:20260425T212319
CREATED:20220716T221637Z
LAST-MODIFIED:20220822T171807Z
UID:9333-1661189400-1661198400@thornhillcruiserscarclub.com
SUMMARY:Monday Night Cruise - August 22\, 2022
DESCRIPTION:Monday Night Cruise – August 22\, 2022 \n @ 5:30 pm – 8:30 pm \nFree \nOur regular Monday Night Cruise will start at 5:30 p.m. to dark.  There will be a 50/50 draw at 7:15 p.m. with proceeds going to Jumpstart charity.  As well\, there will be some awesome classic cars.  Everyone is welcome and there is no charge for admission. \nTONIGHT’S CRUISE IS CANCELLED DUE TO INCLEMENT WEATHER
URL:https://thornhillcruiserscarclub.com/event/monday-night-cruise-august-22-2022/
LOCATION:2900 Major Mackenzie Road\, 2900 Major Mackenzie\, Markham\, Ontario\, Canada
END:VEVENT
BEGIN:VEVENT
DTSTART;TZID=America/Toronto:20220820T120000
DTEND;TZID=America/Toronto:20220820T150000
DTSTAMP:20260425T212319
CREATED:20220527T231641Z
LAST-MODIFIED:20220817T223510Z
UID:8881-1660996800-1661007600@thornhillcruiserscarclub.com
SUMMARY:Newmarket Health Center
DESCRIPTION:We are invited back to the Newmarket Health Centre on Eagle Street in Newmarket. There will be lunch and refreshments. \nTHIS EVENT HAS BEEN CANCELLED DUE TO A COVID OUTBREAK.
URL:https://thornhillcruiserscarclub.com/event/newmarket-health-center/
LOCATION:Newmarket Health Centre\, 194 Eagle Street\, Newmarket\, Ontario\, L3Y 1J6\, Canada
ORGANIZER;CN="Betsy Anderson":MAILTO:betsy.anderson@york.ca
END:VEVENT
BEGIN:VEVENT
DTSTART;TZID=America/Toronto:20220815T173000
DTEND;TZID=America/Toronto:20220815T200000
DTSTAMP:20260425T212319
CREATED:20220716T221405Z
LAST-MODIFIED:20220716T221405Z
UID:9331-1660584600-1660593600@thornhillcruiserscarclub.com
SUMMARY:Monday Night Cruise - August 15\, 2022
DESCRIPTION:Monday Night Cruise – August 15\, 2022 \n @ 5:30 pm – 8:30 pm \nFree \nOur regular Monday Night Cruise will start at 5:30 p.m. to dark.  There will be a 50/50 draw at 7:15 p.m. with proceeds going to Jumpstart charity.  As well\, there will be some awesome classic cars.  Everyone is welcome and there is no charge for admission.
URL:https://thornhillcruiserscarclub.com/event/monday-night-cruise-august-15-2022/
LOCATION:2900 Major Mackenzie Road\, 2900 Major Mackenzie\, Markham\, Ontario\, Canada
END:VEVENT
BEGIN:VEVENT
DTSTART;TZID=America/Toronto:20220814T090000
DTEND;TZID=America/Toronto:20220814T160000
DTSTAMP:20260425T212319
CREATED:20220716T220251Z
LAST-MODIFIED:20220716T223116Z
UID:9327-1660467600-1660492800@thornhillcruiserscarclub.com
SUMMARY:Whitchurch-Stouffville Museum
DESCRIPTION:It’s that time again! Museum staff and volunteers are working hard to plan this year’s Antique & Classic Car Show\nat the Whitchurch-Stouffville Museum & Community Centre! We are looking forward to working with you\, your fellow exhibitors\, and families to host another successful show.\nThe date for this year’s event – the 49th Annual Antique & Classic Car Show – is Sunday\, August 14th. We will start receiving cars at 9:00 a.m. and be open to the public from 11:00am until 4:00pm.\nAdmission fees for drivers and in-car guests are waived. General admission for the public is $5.00/person or\n$15.00/family of four. Children under 3 years are FREE.
URL:https://thornhillcruiserscarclub.com/event/whitchurch-stouffville-museum/
LOCATION:Whitchurch-Stouffville Museum\, 14732 Woodbine Ave.\, Vandorf\, Ontario\, Canada
ORGANIZER;CN="Whitchurch-Stouffville Museum":MAILTO:wsmuseum@townofws.ca
END:VEVENT
BEGIN:VEVENT
DTSTART;TZID=America/Toronto:20220813T080000
DTEND;TZID=America/Toronto:20220813T160000
DTSTAMP:20260425T212319
CREATED:20220716T215425Z
LAST-MODIFIED:20220716T215425Z
UID:9321-1660377600-1660406400@thornhillcruiserscarclub.com
SUMMARY:Steering FOR Steer FRIENDS
DESCRIPTION:The Makham-Stouffville Cruisers are supporting Steer Friends at this epic\, not-to-be-missed car show of the season!!!  Please come and support this program for young adults with Complex Care needs. \nVehicle registrations: $25 Outdoor / $45 Indoor. General admission $5 per adult \nPhoto op with guest celebrity Dave Kindig from Bitchin’ Rides T.V. show
URL:https://thornhillcruiserscarclub.com/event/steering-for-steer-friends/
LOCATION:Markham Fairgrounds\, 10801 McCowan Road\, Markham\, Ontario\, Canada
ORGANIZER;CN="Markham-Stouffville Cruisers Car Club":MAILTO:markhamstouffvillecruisersclub@gmail.com
END:VEVENT
BEGIN:VEVENT
DTSTART;TZID=America/Toronto:20220808T173000
DTEND;TZID=America/Toronto:20220808T200000
DTSTAMP:20260425T212319
CREATED:20220716T213450Z
LAST-MODIFIED:20220808T183934Z
UID:9319-1659979800-1659988800@thornhillcruiserscarclub.com
SUMMARY:Monday Night Cruise - August 8\, 2022
DESCRIPTION:Monday Night Cruise – August 8\, 2022 \n @ 5:30 pm – 8:30 pm \nFree   DUE TO the INCLEMENT WEATHER FORECAST\, TONIGHTS CRUISE IS CANCELLED. \nOur regular Monday Night Cruise will start at 5:30 p.m. and to dark.  There will be a 50/50 draw at 7:15 p.m. with proceeds going to Jumpstart charity.  As well\, there will be some awesome classic cars.  Everyone is welcome and there is no charge for admission.
URL:https://thornhillcruiserscarclub.com/event/monday-night-cruise-august-8-2022/
LOCATION:2900 Major Mackenzie Road\, 2900 Major Mackenzie\, Markham\, Ontario\, Canada
END:VEVENT
BEGIN:VEVENT
DTSTART;TZID=America/Toronto:20220807T110000
DTEND;TZID=America/Toronto:20220807T160000
DTSTAMP:20260425T212319
CREATED:20220724T220153Z
LAST-MODIFIED:20220724T221515Z
UID:9352-1659870000-1659888000@thornhillcruiserscarclub.com
SUMMARY:Classic Car Show & Summerfest
DESCRIPTION:Highway 11 Cruisers Car Club is holding the 2nd annual Sharon Templer Classic & Custom Car\, Truck & Bike Show. \nAbout the Event \nStarting in 2021\, Sharon Temple has partnered with Highway 11 Cruisers Car Club to host a classic car\, truck\, and bike show at the Sharon Temple. This event brings hundreds of vehicles ranging in make\, model\, and year. Featuring a BBQ\, prizes\, and awards\, this is the newest and biggest event in East Gwillimbury. You don’t want to miss this one! \nAll of the Car Show proceeds go to charity. \nJoin your community for a day of celebration\, fun\, and excitement on August 7\, 2022\, at the Sharon Temple National Historic Site and Museum and the Town of East Gwillimbury Civic Centre Park. Free bouncy castles and hot air balloon rides for all! Support your local artisans and vendors at the community market. You will find locally grown produce\, handmade items\, and many more treasures at Summerfest
URL:https://thornhillcruiserscarclub.com/event/classic-car-show-summerfest/
LOCATION:Sharon Temple & Museum\, 18974 Leslie St.\, East Gwillimbury\, Ontario\, L0G 1V0\, Canada
ORGANIZER;CN="Hwy. 11 Cruisers Car Club":MAILTO:highway11cruisers@gmail.com
END:VEVENT
BEGIN:VEVENT
DTSTART;TZID=America/Toronto:20220806T100000
DTEND;TZID=America/Toronto:20220806T120000
DTSTAMP:20260425T212319
CREATED:20220527T231155Z
LAST-MODIFIED:20220730T220859Z
UID:8875-1659780000-1659787200@thornhillcruiserscarclub.com
SUMMARY:Chartwell Oak Ridges Retirement
DESCRIPTION:We have been invited to visit the Chartwell Oak Ridges Retirement home again this year on August 6\, 2022.  They can handle only about 10 cars and there will be refreshments and snacks. \nDUE TO A RECENT COVID-19 OUTBREAK\, THIS EVENT IS NOW CANCELLED
URL:https://thornhillcruiserscarclub.com/event/chartwell-oak-ridges-retirement/
LOCATION:Chartwell Oak Ridges Retirement\, 12925 Yonge Street\, Richmond Hill\, Ontario\, L4E 0T7\, Canada
END:VEVENT
END:VCALENDAR