BEGIN:VCALENDAR
VERSION:2.0
PRODID:-//Thornhill Cruisers Cars Club Canada - ECPv6.7.1//NONSGML v1.0//EN
CALSCALE:GREGORIAN
METHOD:PUBLISH
X-WR-CALNAME:Thornhill Cruisers Cars Club Canada
X-ORIGINAL-URL:https://thornhillcruiserscarclub.com
X-WR-CALDESC:Events for Thornhill Cruisers Cars Club Canada
REFRESH-INTERVAL;VALUE=DURATION:PT1H
X-Robots-Tag:noindex
X-PUBLISHED-TTL:PT1H
BEGIN:VTIMEZONE
TZID:America/Toronto
BEGIN:DAYLIGHT
TZOFFSETFROM:-0500
TZOFFSETTO:-0400
TZNAME:EDT
DTSTART:20250309T070000
END:DAYLIGHT
BEGIN:STANDARD
TZOFFSETFROM:-0400
TZOFFSETTO:-0500
TZNAME:EST
DTSTART:20251102T060000
END:STANDARD
BEGIN:DAYLIGHT
TZOFFSETFROM:-0500
TZOFFSETTO:-0400
TZNAME:EDT
DTSTART:20260308T070000
END:DAYLIGHT
BEGIN:STANDARD
TZOFFSETFROM:-0400
TZOFFSETTO:-0500
TZNAME:EST
DTSTART:20261101T060000
END:STANDARD
END:VTIMEZONE
BEGIN:VEVENT
DTSTART;TZID=America/Toronto:20251019T160000
DTEND;TZID=America/Toronto:20251019T183000
DTSTAMP:20260425T083258
CREATED:20250914T213824Z
LAST-MODIFIED:20250914T214012Z
UID:19204-1760889600-1760898600@thornhillcruiserscarclub.com
SUMMARY:Thornhill Cruisers Car Club AGM 2025
DESCRIPTION:Our AGM is coming up and will be held at The Gardens Club in Swan Lake Village.  Directions will be provided in an email to each member.  The meeting will be held on October 19 and 4:00 pm.  This will be the time to discuss how things went this past year and any ideas you have that might help improve the club next year.  Also\, dues will be collected and they are $40.00/ membership.  Please R.S.V.P. to Martin Silver (martinsilver@rogers.com)
URL:https://thornhillcruiserscarclub.com/event/thornhill-cruisers-car-club-agm-2025/
LOCATION:Swan Lake Gardens Club House Main Room\, 25 Belle Terre Way\, Markham\, Ontario\, L6E 2A2\, Canada
END:VEVENT
BEGIN:VEVENT
DTSTART;TZID=America/Toronto:20260518T173000
DTEND;TZID=America/Toronto:20260518T203000
DTSTAMP:20260425T083258
CREATED:20260412T225441Z
LAST-MODIFIED:20260412T225511Z
UID:19866-1779125400-1779136200@thornhillcruiserscarclub.com
SUMMARY:Season Opener for 2026
DESCRIPTION:We are back for 2026.  The season opener will be held on Monday\, May 18 2026 at our usual location (2900 Major Mackenzie Road) featuring Tony the Entertainer.  Come on out and enjoy some great classic cars and comraderie. \n  \n 
URL:https://thornhillcruiserscarclub.com/event/season-opener-for-2026/
LOCATION:2900 Major Mackenzie Road\, 2900 Major Mackenzie\, Markham\, Ontario\, Canada
END:VEVENT
BEGIN:VEVENT
DTSTART;TZID=America/Toronto:20260525T173000
DTEND;TZID=America/Toronto:20260525T203000
DTSTAMP:20260425T083258
CREATED:20260412T225838Z
LAST-MODIFIED:20260412T225838Z
UID:19869-1779730200-1779741000@thornhillcruiserscarclub.com
SUMMARY:Markham Thornhill Cruise Night
DESCRIPTION:We will be holding our weekly cruise night (weather permitting) at our usual location by Canadian Tire. Some great classic cars and nice people.
URL:https://thornhillcruiserscarclub.com/event/markham-thornhill-cruise-night/
LOCATION:2900 Major Mackenzie Road\, 2900 Major Mackenzie\, Markham\, Ontario\, Canada
END:VEVENT
END:VCALENDAR