BEGIN:VCALENDAR
VERSION:2.0
PRODID:-//Thornhill Cruisers Cars Club Canada - ECPv6.7.1//NONSGML v1.0//EN
CALSCALE:GREGORIAN
METHOD:PUBLISH
X-WR-CALNAME:Thornhill Cruisers Cars Club Canada
X-ORIGINAL-URL:https://thornhillcruiserscarclub.com
X-WR-CALDESC:Events for Thornhill Cruisers Cars Club Canada
REFRESH-INTERVAL;VALUE=DURATION:PT1H
X-Robots-Tag:noindex
X-PUBLISHED-TTL:PT1H
BEGIN:VTIMEZONE
TZID:America/Toronto
BEGIN:DAYLIGHT
TZOFFSETFROM:-0500
TZOFFSETTO:-0400
TZNAME:EDT
DTSTART:20180311T070000
END:DAYLIGHT
BEGIN:STANDARD
TZOFFSETFROM:-0400
TZOFFSETTO:-0500
TZNAME:EST
DTSTART:20181104T060000
END:STANDARD
BEGIN:DAYLIGHT
TZOFFSETFROM:-0500
TZOFFSETTO:-0400
TZNAME:EDT
DTSTART:20190310T070000
END:DAYLIGHT
BEGIN:STANDARD
TZOFFSETFROM:-0400
TZOFFSETTO:-0500
TZNAME:EST
DTSTART:20191103T060000
END:STANDARD
END:VTIMEZONE
BEGIN:VEVENT
DTSTART;TZID=America/Toronto:20190729T170000
DTEND;TZID=America/Toronto:20190729T203000
DTSTAMP:20260424T121610
CREATED:20190421T145300Z
LAST-MODIFIED:20190528T154231Z
UID:6214-1564419600-1564432200@thornhillcruiserscarclub.com
SUMMARY:Monday Night Cruise
DESCRIPTION:Tonight’s event is sponsored by Hagerty Insurance.
URL:https://thornhillcruiserscarclub.com/event/monday-night-cruise-8/
LOCATION:2900 Major Mackenzie Road\, 2900 Major Mackenzie\, Markham\, Ontario\, Canada
CATEGORIES:Regular Monday Night Cruise
END:VEVENT
BEGIN:VEVENT
DTSTART;TZID=America/Toronto:20180827T180000
DTEND;TZID=America/Toronto:20180827T210000
DTSTAMP:20260424T121610
CREATED:20180423T014108Z
LAST-MODIFIED:20180423T020821Z
UID:4857-1535392800-1535403600@thornhillcruiserscarclub.com
SUMMARY:Regular Monday Night Cruise
DESCRIPTION:
URL:https://thornhillcruiserscarclub.com/event/regular-monday-night-cruise-14/
LOCATION:Ontario
CATEGORIES:Regular Monday Night Cruise
END:VEVENT
BEGIN:VEVENT
DTSTART;TZID=America/Toronto:20180820T180000
DTEND;TZID=America/Toronto:20180820T210000
DTSTAMP:20260424T121610
CREATED:20180423T014108Z
LAST-MODIFIED:20180423T020822Z
UID:4856-1534788000-1534798800@thornhillcruiserscarclub.com
SUMMARY:Regular Monday Night Cruise
DESCRIPTION:
URL:https://thornhillcruiserscarclub.com/event/regular-monday-night-cruise-13/
LOCATION:Ontario
CATEGORIES:Regular Monday Night Cruise
END:VEVENT
BEGIN:VEVENT
DTSTART;TZID=America/Toronto:20180813T180000
DTEND;TZID=America/Toronto:20180813T210000
DTSTAMP:20260424T121610
CREATED:20180423T014108Z
LAST-MODIFIED:20180423T020822Z
UID:4855-1534183200-1534194000@thornhillcruiserscarclub.com
SUMMARY:Regular Monday Night Cruise
DESCRIPTION:
URL:https://thornhillcruiserscarclub.com/event/regular-monday-night-cruise-12/
LOCATION:Ontario
CATEGORIES:Regular Monday Night Cruise
END:VEVENT
BEGIN:VEVENT
DTSTART;TZID=America/Toronto:20180806T180000
DTEND;TZID=America/Toronto:20180806T210000
DTSTAMP:20260424T121610
CREATED:20180423T014106Z
LAST-MODIFIED:20180423T020822Z
UID:4853-1533578400-1533589200@thornhillcruiserscarclub.com
SUMMARY:Regular Monday Night Cruise
DESCRIPTION:
URL:https://thornhillcruiserscarclub.com/event/regular-monday-night-cruise-11/
LOCATION:Ontario
CATEGORIES:Regular Monday Night Cruise
END:VEVENT
BEGIN:VEVENT
DTSTART;TZID=America/Toronto:20180730T180000
DTEND;TZID=America/Toronto:20180730T210000
DTSTAMP:20260424T121610
CREATED:20180423T014105Z
LAST-MODIFIED:20180728T203931Z
UID:4852-1532973600-1532984400@thornhillcruiserscarclub.com
SUMMARY:Regular Monday Night Cruise
DESCRIPTION:Town & Country BMW and Mini Markham will be our guests tonight.
URL:https://thornhillcruiserscarclub.com/event/regular-monday-night-cruise-10/
LOCATION:Ontario
CATEGORIES:Regular Monday Night Cruise
END:VEVENT
BEGIN:VEVENT
DTSTART;TZID=America/Toronto:20180723T180000
DTEND;TZID=America/Toronto:20180723T210000
DTSTAMP:20260424T121610
CREATED:20180423T014105Z
LAST-MODIFIED:20180723T201521Z
UID:4851-1532368800-1532379600@thornhillcruiserscarclub.com
SUMMARY:Regular Monday Night Cruise
DESCRIPTION:Tonight’s cruise will be cancelled due to the inclement weather
URL:https://thornhillcruiserscarclub.com/event/regular-monday-night-cruise-9/
LOCATION:Ontario
CATEGORIES:Regular Monday Night Cruise
END:VEVENT
BEGIN:VEVENT
DTSTART;TZID=America/Toronto:20180716T180000
DTEND;TZID=America/Toronto:20180716T210000
DTSTAMP:20260424T121610
CREATED:20180423T014105Z
LAST-MODIFIED:20180716T192341Z
UID:4850-1531764000-1531774800@thornhillcruiserscarclub.com
SUMMARY:Regular Monday Night Cruise - CANCELLED
DESCRIPTION:EVENT IS CANCELLED
URL:https://thornhillcruiserscarclub.com/event/regular-monday-night-cruise-8/
LOCATION:Ontario
CATEGORIES:Regular Monday Night Cruise
END:VEVENT
BEGIN:VEVENT
DTSTART;TZID=America/Toronto:20180709T180000
DTEND;TZID=America/Toronto:20180709T210000
DTSTAMP:20260424T121610
CREATED:20180423T014105Z
LAST-MODIFIED:20180423T020822Z
UID:4849-1531159200-1531170000@thornhillcruiserscarclub.com
SUMMARY:Regular Monday Night Cruise
DESCRIPTION:
URL:https://thornhillcruiserscarclub.com/event/regular-monday-night-cruise-7/
LOCATION:Ontario
CATEGORIES:Regular Monday Night Cruise
END:VEVENT
BEGIN:VEVENT
DTSTART;TZID=America/Toronto:20180702T180000
DTEND;TZID=America/Toronto:20180702T210000
DTSTAMP:20260424T121610
CREATED:20180423T014103Z
LAST-MODIFIED:20180423T020822Z
UID:4848-1530554400-1530565200@thornhillcruiserscarclub.com
SUMMARY:Regular Monday Night Cruise
DESCRIPTION:
URL:https://thornhillcruiserscarclub.com/event/regular-monday-night-cruise-6/
LOCATION:Ontario
CATEGORIES:Regular Monday Night Cruise
END:VEVENT
BEGIN:VEVENT
DTSTART;TZID=America/Toronto:20180625T180000
DTEND;TZID=America/Toronto:20180625T210000
DTSTAMP:20260424T121610
CREATED:20180423T014103Z
LAST-MODIFIED:20180423T020822Z
UID:4845-1529949600-1529960400@thornhillcruiserscarclub.com
SUMMARY:Regular Monday Night Cruise
DESCRIPTION:
URL:https://thornhillcruiserscarclub.com/event/regular-monday-night-cruise-5/
LOCATION:Ontario
CATEGORIES:Regular Monday Night Cruise
END:VEVENT
BEGIN:VEVENT
DTSTART;TZID=America/Toronto:20180618T180000
DTEND;TZID=America/Toronto:20180618T210000
DTSTAMP:20260424T121610
CREATED:20180423T014103Z
LAST-MODIFIED:20180423T020822Z
UID:4844-1529344800-1529355600@thornhillcruiserscarclub.com
SUMMARY:Regular Monday Night Cruise
DESCRIPTION:
URL:https://thornhillcruiserscarclub.com/event/regular-monday-night-cruise-4/
LOCATION:Ontario
CATEGORIES:Regular Monday Night Cruise
END:VEVENT
BEGIN:VEVENT
DTSTART;TZID=America/Toronto:20180611T180000
DTEND;TZID=America/Toronto:20180611T210000
DTSTAMP:20260424T121610
CREATED:20180423T014100Z
LAST-MODIFIED:20180423T020823Z
UID:4843-1528740000-1528750800@thornhillcruiserscarclub.com
SUMMARY:Regular Monday Night Cruise
DESCRIPTION:
URL:https://thornhillcruiserscarclub.com/event/regular-monday-night-cruise-3/
LOCATION:Ontario
CATEGORIES:Regular Monday Night Cruise
END:VEVENT
BEGIN:VEVENT
DTSTART;TZID=America/Toronto:20180604T180000
DTEND;TZID=America/Toronto:20180604T210000
DTSTAMP:20260424T121610
CREATED:20180423T014100Z
LAST-MODIFIED:20180423T020823Z
UID:4842-1528135200-1528146000@thornhillcruiserscarclub.com
SUMMARY:Regular Monday Night Cruise
DESCRIPTION:Regular Monday Night Cruise
URL:https://thornhillcruiserscarclub.com/event/regular-monday-night-cruise-2/
LOCATION:Ontario
CATEGORIES:Regular Monday Night Cruise
END:VEVENT
BEGIN:VEVENT
DTSTART;TZID=America/Toronto:20180528T180000
DTEND;TZID=America/Toronto:20180528T210000
DTSTAMP:20260424T121610
CREATED:20180423T014059Z
LAST-MODIFIED:20180423T023811Z
UID:4840-1527530400-1527541200@thornhillcruiserscarclub.com
SUMMARY:Regular Monday Night Cruise
DESCRIPTION:Regular Monday Night Cruise
URL:https://thornhillcruiserscarclub.com/event/regular-monday-night-cruise/
LOCATION:Parking in front of the Canadian Tire Store in Markham\, 2900 Major Mackenzie Dr E\, Markham\, L6C 0G6
CATEGORIES:Regular Monday Night Cruise
END:VEVENT
END:VCALENDAR