BEGIN:VCALENDAR
VERSION:2.0
PRODID:-//Thornhill Cruisers Cars Club Canada - ECPv6.7.1//NONSGML v1.0//EN
CALSCALE:GREGORIAN
METHOD:PUBLISH
X-ORIGINAL-URL:https://thornhillcruiserscarclub.com
X-WR-CALDESC:Events for Thornhill Cruisers Cars Club Canada
REFRESH-INTERVAL;VALUE=DURATION:PT1H
X-Robots-Tag:noindex
X-PUBLISHED-TTL:PT1H
BEGIN:VTIMEZONE
TZID:America/Toronto
BEGIN:DAYLIGHT
TZOFFSETFROM:-0500
TZOFFSETTO:-0400
TZNAME:EDT
DTSTART:20250309T070000
END:DAYLIGHT
BEGIN:STANDARD
TZOFFSETFROM:-0400
TZOFFSETTO:-0500
TZNAME:EST
DTSTART:20251102T060000
END:STANDARD
END:VTIMEZONE
BEGIN:VEVENT
DTSTART;TZID=America/Toronto:20250908T163000
DTEND;TZID=America/Toronto:20250908T200000
DTSTAMP:20260425T133523
CREATED:20250904T144057Z
LAST-MODIFIED:20250904T144057Z
UID:18904-1757349000-1757361600@thornhillcruiserscarclub.com
SUMMARY:MONDAY NIGHT IN MARKHAM
DESCRIPTION:By popular demand and with good weather\, we will be continuing our Monday Night cruises for Monday\, September 8 and 15.
URL:https://thornhillcruiserscarclub.com/event/monday-night-in-markham-5/
LOCATION:2900 Major Mackenzie Road\, 2900 Major Mackenzie\, Markham\, Ontario\, Canada
END:VEVENT
END:VCALENDAR